BEGIN:VCALENDAR
VERSION:2.0
PRODID:-//La JaJa - ECPv4.3.4.1//NONSGML v1.0//EN
CALSCALE:GREGORIAN
METHOD:PUBLISH
X-WR-CALNAME:La JaJa
X-ORIGINAL-URL:https://www.lajajakids.com/en
X-WR-CALDESC:Events for La JaJa
BEGIN:VEVENT
DTSTART;VALUE=DATE:20170610
DTEND;VALUE=DATE:20170610
DTSTAMP:20260425T180229
CREATED:20170609T165632Z
LAST-MODIFIED:20170609T234645Z
UID:43044-1497052800-1497139199@www.lajajakids.com
SUMMARY:The Ultimate Shopkins Swap-kins Party!
DESCRIPTION:
URL:https://www.lajajakids.com/en/event/the-ultimate-shopkins-swap-kins-party/
CATEGORIES:Red
ATTACH;FMTTYPE=image/jpeg:https://www.lajajakids.com/wp-content/uploads/2017/06/shopkins.jpg
END:VEVENT
END:VCALENDAR