BEGIN:VCALENDAR
VERSION:2.0
PRODID:-//La JaJa - ECPv4.3.4.1//NONSGML v1.0//EN
CALSCALE:GREGORIAN
METHOD:PUBLISH
X-WR-CALNAME:La JaJa
X-ORIGINAL-URL:https://www.lajajakids.com
X-WR-CALDESC:Events for La JaJa
BEGIN:VEVENT
DTSTART;VALUE=DATE:20190202
DTEND;VALUE=DATE:20190202
DTSTAMP:20260423T133414
CREATED:20190131T212743Z
LAST-MODIFIED:20190131T212743Z
UID:66312-1549065600-1549151999@www.lajajakids.com
SUMMARY:San Clemente農曆新年慶祝會
DESCRIPTION:\n\nFourth Annual Lunar New Year Celebration at Outlets at San Clemente\nSATURDAY\, FEBRUARY 2\, 1 PM – 2 PM\nOAK TREE COURT\n\n\n\n\n\nJoin us in celebrating the Year of the Pig with free family fun and entertainment featuring more than 50 performers from the Irvine Chinese School\, Marian Bergeson Elementary School’s Mandarin Immersion Program and San Diego-based Three Treasures Cultural Arts Society.\n\nHighlights include:\nA 30-foot Dragon Dance throughout the shopping center\n\nInteractive Lion Dances for kids\n\nTraditional Chinese songs\n\nMartial arts demonstrations\n\nBalloon animals and arts & crafts activities\n\nRed Envelope giveaways and more\n\n
URL:https://www.lajajakids.com/event/san-clemente%e8%be%b2%e6%9b%86%e6%96%b0%e5%b9%b4%e6%85%b6%e7%a5%9d%e6%9c%83/
LOCATION:101 West Avenida Vista Hermosa\, San Clemente\, CA\, 92672\, United States
GEO:33.4395379;-117.6279999
X-APPLE-STRUCTURED-LOCATION;VALUE=URI;X-ADDRESS=101 West Avenida Vista Hermosa San Clemente CA 92672 United States;X-APPLE-RADIUS=500;X-TITLE=101 West Avenida Vista Hermosa:geo:-117.6279999,33.4395379
CATEGORIES:Red,精選推介
ATTACH;FMTTYPE=image/jpeg:https://www.lajajakids.com/wp-content/uploads/2019/01/OSC19_LNY_EventPage_900x600-500x333.jpg
END:VEVENT
END:VCALENDAR