BEGIN:VCALENDAR
VERSION:2.0
PRODID:-//La JaJa - ECPv4.3.4.1//NONSGML v1.0//EN
CALSCALE:GREGORIAN
METHOD:PUBLISH
X-WR-CALNAME:La JaJa
X-ORIGINAL-URL:https://www.lajajakids.com
X-WR-CALDESC:Events for La JaJa
BEGIN:VEVENT
DTSTART;VALUE=DATE:20181117
DTEND;VALUE=DATE:20181118
DTSTAMP:20260424T091952
CREATED:20171117T061641Z
LAST-MODIFIED:20181116T201936Z
UID:54204-1542412800-1542585599@www.lajajakids.com
SUMMARY:Pasadena鐵路模具開放日
DESCRIPTION:鐵路模具開放日，喜歡模型的小朋友們一定要來\n\nCome see one of the world’s largest model train layouts in action! \n\nOur Fall 2018 Open House is scheduled for Saturday\, November 17th; Sunday\, November 18th; and Tuesday\, November 20th. Hours are as follows:\n\n\tSaturday\, November 17th: 1:00pm – 5:00pm and 7:00pm – 9:00pm\n\tSunday\, November 18th: 1:00pm – 5:00pm\n\tTuesday\, November 20th: 7:30pm – 9:00pm\n\nSuggested donation: $5 for adults\, $1 for children 7-17. No donation requested for kids under 7. Cash only\, please.\n\nThe Open House takes place at 5458 Alhambra Avenue\, Los Angeles\, CA 90032. Click here for a map and driving directions. Cameras are welcome and the club is wheelchair accessible.
URL:https://www.lajajakids.com/event/pasadena%e9%90%b5%e8%b7%af%e6%a8%a1%e5%85%b7%e9%96%8b%e6%94%be%e6%97%a5/
LOCATION:5458 Alhambra Avenue\, Los Angeles\, CA\, 90032\, United States
GEO:34.078092;-118.1664114
X-APPLE-STRUCTURED-LOCATION;VALUE=URI;X-ADDRESS=5458 Alhambra Avenue Los Angeles CA 90032 United States;X-APPLE-RADIUS=500;X-TITLE=5458 Alhambra Avenue:geo:-118.1664114,34.078092
CATEGORIES:Red,精選推介
ATTACH;FMTTYPE=image/jpeg:https://www.lajajakids.com/wp-content/uploads/2017/11/ag_pmrrc_firsttrain_032916.jpg
END:VEVENT
END:VCALENDAR