BEGIN:VCALENDAR
VERSION:2.0
PRODID:-//La JaJa - ECPv4.3.4.1//NONSGML v1.0//EN
CALSCALE:GREGORIAN
METHOD:PUBLISH
X-WR-CALNAME:La JaJa
X-ORIGINAL-URL:https://www.lajajakids.com/en
X-WR-CALDESC:Events for La JaJa
BEGIN:VEVENT
DTSTART;VALUE=DATE:20170610
DTEND;VALUE=DATE:20170610
DTSTAMP:20260422T190421
CREATED:20170608T205629Z
LAST-MODIFIED:20170608T205629Z
UID:43023-1497052800-1497139199@www.lajajakids.com
SUMMARY:MIXED REMIXED FESTIVAL
DESCRIPTION:MIXED REMIXED FESTIVAL\nJUNE 10\, 2017The Los Angeles Theatre Center514 S. Spring Street\nLos Angeles\, CAÂ \n\nFREE!a film\, book & performance festivalcelebrating stories of the Mixed race and multiracial experienceÂ \n\n\nR E G I S T E R\nREGISTRATION OPEN!You can find a complete Festival schedule here.Â \n\nCelebrate the 50th Anniversary of Loving v. Virginia with us. 
URL:https://www.lajajakids.com/en/event/mixed-remixed-festival/
LOCATION:514 S. Spring Street\, Los Angeles\, CA\, United States
GEO:34.0466405;-118.2496756
X-APPLE-STRUCTURED-LOCATION;VALUE=URI;X-ADDRESS=514 S. Spring Street Los Angeles CA United States;X-APPLE-RADIUS=500;X-TITLE=514 S. Spring Street:geo:-118.2496756,34.0466405
END:VEVENT
END:VCALENDAR