BEGIN:VCALENDAR
VERSION:2.0
PRODID:-//La JaJa - ECPv4.3.4.1//NONSGML v1.0//EN
CALSCALE:GREGORIAN
METHOD:PUBLISH
X-WR-CALNAME:La JaJa
X-ORIGINAL-URL:https://www.lajajakids.com
X-WR-CALDESC:Events for La JaJa
BEGIN:VEVENT
DTSTART;VALUE=DATE:20190120
DTEND;VALUE=DATE:20190120
DTSTAMP:20260424T020401
CREATED:20180113T054039Z
LAST-MODIFIED:20190117T175330Z
UID:55516-1547942400-1548028799@www.lajajakids.com
SUMMARY:Marion生日慶祝
DESCRIPTION:It’s a party\, and you’re invited! On Sunday\, January 14\, join us for Happy Birthday Marion! at the Annenberg Community Beach House as we celebrate Marion Davies\, the silent film star whose effervescent personality was likened to the "bubbles in a glass of champagne.” From 11am - 2pm\, step back in time as Santa Monica Conservancy docents\, in vintage attire\, evoke Marion’s Hollywood circle to shine a light on the classic film era actress\, philanthropist\, famed party hostess and mistress of media tycoon William Randolph Hearst\, at Davies’ 1928 Julia Morgan designed Guest House. Be entertained by magician Tom Frank\, and cut a rug to music from the classic American song book by LA Love Band\, featuring Danny Meyer. At 1:30pm\, a toast to Marion caps the event. Your spiffiest Gold Coast era attire is encouraged. All ages are welcome
URL:https://www.lajajakids.com/event/marion%e7%94%9f%e6%97%a5%e6%85%b6%e7%a5%9d/
LOCATION:415 Pacific Coast Highway\, Santa Monica\, CA\, 90402\, United States
GEO:34.0240834;-118.5128696
X-APPLE-STRUCTURED-LOCATION;VALUE=URI;X-ADDRESS=415 Pacific Coast Highway Santa Monica CA 90402 United States;X-APPLE-RADIUS=500;X-TITLE=415 Pacific Coast Highway:geo:-118.5128696,34.0240834
CATEGORIES:Red,精選推介
ATTACH;FMTTYPE=image/jpeg:https://www.lajajakids.com/wp-content/uploads/2018/01/https-cdn.evbuc_.com-images-26137983-17375590649-1-original.jpg
END:VEVENT
END:VCALENDAR