BEGIN:VCALENDAR
VERSION:2.0
PRODID:-//La JaJa - ECPv4.3.4.1//NONSGML v1.0//EN
CALSCALE:GREGORIAN
METHOD:PUBLISH
X-WR-CALNAME:La JaJa
X-ORIGINAL-URL:https://www.lajajakids.com
X-WR-CALDESC:Events for La JaJa
BEGIN:VEVENT
DTSTART;VALUE=DATE:20181006
DTEND;VALUE=DATE:20181007
DTSTAMP:20260422T201630
CREATED:20181005T173245Z
LAST-MODIFIED:20181005T173245Z
UID:63741-1538784000-1538956799@www.lajajakids.com
SUMMARY:LA希臘嘉年華
DESCRIPTION:這不僅是希臘社區內自得其樂的慶祝，也是一個機會與鄰里和其他洛杉磯社區來分享我們的信仰，文化背景和精神。\n\nThe LA Greek Fest is the largest and most iconic Greek food and wine festival in Los Angeles\, California bringing over 15\,000 attendees together for a three day weekend of Greek food\, wine\, traditional Greek dancing and one-of-a-kind cultural experiences. Located at Pico and Normandie on the same grounds of one of LA’s most beautiful and well-known Greek Orthodox Cathedrals – Saint Sophia Cathedral\, the festival brings together the community of the Byzantine-Latino Quarter\, people from all over downtown Los Angeles and Southern California.\n\nThe festival is located at Pico and Normandie on the same grounds of one of LA’s most beautiful and well-known Greek Orthodox Cathedrals - Saint Sophia Cathedral.\n\nSchedule:\n\nFriday: 5pm - 11pm\n\nSaturday: 12pm - 11pm\n\nSunday: 12pm - 10pm
URL:https://www.lajajakids.com/event/la%e5%b8%8c%e8%87%98%e5%98%89%e5%b9%b4%e8%8f%af/
LOCATION:1324 South Normandie Avenue\, Los Angeles\, CA\, United States
CATEGORIES:Red,精選推介
ATTACH;FMTTYPE=image/jpeg:https://www.lajajakids.com/wp-content/uploads/2018/10/Greek-Fest.jpg
END:VEVENT
END:VCALENDAR