BEGIN:VCALENDAR
VERSION:2.0
PRODID:-//La JaJa - ECPv4.3.4.1//NONSGML v1.0//EN
CALSCALE:GREGORIAN
METHOD:PUBLISH
X-WR-CALNAME:La JaJa
X-ORIGINAL-URL:https://www.lajajakids.com/en
X-WR-CALDESC:Events for La JaJa
BEGIN:VEVENT
DTSTART;VALUE=DATE:20170610
DTEND;VALUE=DATE:20170611
DTSTAMP:20260421T004105
CREATED:20170608T174825Z
LAST-MODIFIED:20170609T234008Z
UID:42761-1497052800-1497225599@www.lajajakids.com
SUMMARY:Irish Fair and Music Fest
DESCRIPTION:The Big Irish Fair and Music Festival\, which is the largest such festival west of the Mississippi\, has been around Southern California at various venues for more than 40 years. This year\, the site is the beautiful El Dorado Park in the city of Long Beach next to the 605 freeway. The entry to the park  is from Spring Street. We are situated next to a lovely lake with many mature trees everywhere.\nThere will be many wonderful Irish bands\, which includes our top act\, the well-known Fenians.  For the young folk we have a leprechaun Village with rides\, story telling\, and a Freckle Face competition. You are invited to join us or just watch our daily "St. Paddy" parades.  Also included in our entertainment line-up is a sheep-herding exhibition\, a fair favorite.  For your eating pleasure\, Irish and American food will be supplied by Paul Hennessy of the Hennessy Taverns. Of course\, Guinness beer will be in ample supply.  Expect to find many other vendors\, as well.\nThe dates are June 10th and 11th.  Millitary in uniform will be admitted at no charge.  So come join us for a real HOOLEY!
URL:https://www.lajajakids.com/en/event/irish-fair-and-music-fest/
LOCATION:7550 East Spring Street\, Long Beach\, CA\, 90815\, United States
GEO:33.8095622;-118.0869301
X-APPLE-STRUCTURED-LOCATION;VALUE=URI;X-ADDRESS=7550 East Spring Street Long Beach CA 90815 United States;X-APPLE-RADIUS=500;X-TITLE=7550 East Spring Street:geo:-118.0869301,33.8095622
CATEGORIES:Red
ATTACH;FMTTYPE=image/png:https://www.lajajakids.com/wp-content/uploads/2017/06/Screen-Shot-2017-06-08-at-10.45.15-AM.png
END:VEVENT
END:VCALENDAR