BEGIN:VCALENDAR
VERSION:2.0
PRODID:-//La JaJa - ECPv4.3.4.1//NONSGML v1.0//EN
CALSCALE:GREGORIAN
METHOD:PUBLISH
X-WR-CALNAME:La JaJa
X-ORIGINAL-URL:https://www.lajajakids.com
X-WR-CALDESC:Events for La JaJa
BEGIN:VEVENT
DTSTART;VALUE=DATE:20180602
DTEND;VALUE=DATE:20180602
DTSTAMP:20260423T201129
CREATED:20180601T175937Z
LAST-MODIFIED:20180602T001421Z
UID:60508-1527897600-1527983999@www.lajajakids.com
SUMMARY:夏日趣味讀書會
DESCRIPTION:\nJUNE 2 @ 2:00 PM - 4:00 PM\n\n\nEVENT NAVIGATION\n\n\n\n\nSummer Reading Kick-off Events\nFamily Art Afternoon\nIt’s the first day of our Summer Reading Program. Drop in and explore arts and crafts for the whole family.\nSaturday\, June 2 • 2-4 p.m. • Central Library/Children’s Room\n\n\n
URL:https://www.lajajakids.com/event/eng-summer-reading-kick-off-family-art-afternoon/
LOCATION:285 E. Walnut St.\, Pasadena\, CA\, United States
GEO:34.1500239;-118.1442694
X-APPLE-STRUCTURED-LOCATION;VALUE=URI;X-ADDRESS=285 E. Walnut St. Pasadena CA United States;X-APPLE-RADIUS=500;X-TITLE=285 E. Walnut St.:geo:-118.1442694,34.1500239
CATEGORIES:Red,精選推介
ATTACH;FMTTYPE=image/jpeg:https://www.lajajakids.com/wp-content/uploads/2018/06/SR17thumb.jpg
END:VEVENT
END:VCALENDAR