BEGIN:VCALENDAR
VERSION:2.0
PRODID:-//La JaJa - ECPv4.3.4.1//NONSGML v1.0//EN
CALSCALE:GREGORIAN
METHOD:PUBLISH
X-WR-CALNAME:La JaJa
X-ORIGINAL-URL:https://www.lajajakids.com
X-WR-CALDESC:Events for La JaJa
BEGIN:VEVENT
DTSTART;VALUE=DATE:20180324
DTEND;VALUE=DATE:20180325
DTSTAMP:20260422T014536
CREATED:20180323T104249Z
LAST-MODIFIED:20180323T104249Z
UID:57934-1521849600-1522022399@www.lajajakids.com
SUMMARY:(Eng) 2018 Los Angeles County Air Show
DESCRIPTION:\n\n\n\n來自全美各地飛行特技好手聚集在此，你絕對不會想錯過各種嘆為觀止的表演，還可以學習到航空工程相關知識。\n\n時間： 3 月 24 - 25 日\n時間: 9:00 am to 5:00 pm\n年紀: All ages\n票價：成人：$29 / 7-12歲：$15 /6歲以下：免費\n\n*提前上網購買可以省$5\n\n
URL:https://www.lajajakids.com/event/eng-2018-los-angeles-county-air-show/
LOCATION:4555 West Avenue G\, Lancaster\, CA\, 93536\, United States
GEO:34.7331717;-118.211333
X-APPLE-STRUCTURED-LOCATION;VALUE=URI;X-ADDRESS=4555 West Avenue G Lancaster CA 93536 United States;X-APPLE-RADIUS=500;X-TITLE=4555 West Avenue G:geo:-118.211333,34.7331717
CATEGORIES:Purple
END:VEVENT
END:VCALENDAR