BEGIN:VCALENDAR
VERSION:2.0
PRODID:-//La JaJa - ECPv4.3.4.1//NONSGML v1.0//EN
CALSCALE:GREGORIAN
METHOD:PUBLISH
X-WR-CALNAME:La JaJa
X-ORIGINAL-URL:https://www.lajajakids.com/en
X-WR-CALDESC:Events for La JaJa
BEGIN:VEVENT
DTSTART;VALUE=DATE:20180930
DTEND;VALUE=DATE:20180930
DTSTAMP:20260421T031423
CREATED:20180929T030953Z
LAST-MODIFIED:20180929T030953Z
UID:63649-1538265600-1538351999@www.lajajakids.com
SUMMARY:Celebrate LA! LA Phil 100 x CicLAvia
DESCRIPTION:Celebrate LA!\nA massive\, free\, eight-mile street party connecting Walt Disney Concert Hall and the Hollywood Bowl\, plus a free concert at the Hollywood Bowl!\nSunday\, September 30\nJoin the LA Phil for a FREE celebration with hundreds of musicians\, artists\, dancers\, family activities\, and more!\n\nBe part of this history-making event as the LA Phil kicks off its Centennial season with an epic festival showcasing L.A.’s creative spirit\, with 1800 musicians\, artists\, and dancers coming together to perform at the festival’s six hubs and along the eight-mile route itself. And that’s not all – the evening ends with a free concert at the Hollywood Bowl\, where Gustavo Dudamel will lead the Los Angeles Philharmonic and welcome very special guests – including Katy Perry\, Herbie Hancock\, Kali Uchis\, Youth Orchestra Los Angeles (YOLA)\, and more to the Bowl stage.\n\nWant to know more? Keep checking back for updates\, or sign up to receive notifications and announcements!
URL:https://www.lajajakids.com/en/event/celebrate-la%e9%9f%b3%e6%a8%82%e6%9c%83/
LOCATION:111 S Grand Ave\, Los Angeles\, CA\, United States
CATEGORIES:Red,JaJa’s Picks
ATTACH;FMTTYPE=image/png:https://www.lajajakids.com/wp-content/uploads/2018/09/LA-Phil-Celebrate-LA-mainbar.png
END:VEVENT
END:VCALENDAR