BEGIN:VCALENDAR
VERSION:2.0
PRODID:-//La JaJa - ECPv4.3.4.1//NONSGML v1.0//EN
CALSCALE:GREGORIAN
METHOD:PUBLISH
X-WR-CALNAME:La JaJa
X-ORIGINAL-URL:https://www.lajajakids.com/en
X-WR-CALDESC:Events for La JaJa
BEGIN:VEVENT
DTSTART;VALUE=DATE:20190331
DTEND;VALUE=DATE:20190331
DTSTAMP:20260419T205141
CREATED:20170608T181714Z
LAST-MODIFIED:20190328T201521Z
UID:42766-1553990400-1554076799@www.lajajakids.com
SUMMARY:Art Without Walls: Togetherness Café (Hammer)
DESCRIPTION:\n\nArt Without Walls: Togetherness Café\nSUNDAY MAR 31\, 2019 11:00AM TO 1:00PM \n\n\n\n\n\n\nSaturday\, March 30\, 2–4 p.m. (Off-site: Felipe de Neve Branch of the Los Angeles Public Library; 2820 W. 6th Street\, Los Angeles\, CA 90057)\n\nSunday\, March 31\, 11 a.m.–1 p.m. (Hammer Museum)\n\nWhat meals bring your family together? Re-create your favorite dish out of clay and other materials\, taking inspiration from artist Allen Ruppersberg\, then write a recipe for togetherness. Recipes created at the Hammer and the library will be combined into a single digital book. Led by artist Teresita De la Torre.\n\n\n\nART WITHOUT WALLS\nCopresented by the Felipe de Neve Branch of the Los Angeles Public Library\n\nFamilies create art inspired by social justice issues\, literature\, and Hammer exhibitions. The same activities are offered at each site. The Hammer program includes storytelling in the galleries. The library program is bilingual in Spanish and English.\n\nRecommended for children ages 5+\, teens\, and grownups.\n\n\n\n\nATTENDING THIS PROGRAM?\nTicketing: This free program is not ticketed.  \nParking: Parking is available under the museum. Rates are $7 for the first three hours with museum validation\, and $3 for each additional 20 minutes\, with a $20 daily maximum. There is a $7 flat rate after 6 p.m. on weekdays\, and all day on weekends. Cash only.\nRestaurant: Enjoy a meal or drink before or after the program at our restaurant Audrey. The restaurant is open 11 a.m.–11 p.m. Tuesday–Saturday and 11 a.m.–9 p.m. Sunday. Members and UCLA students receive 10% off.\n\n\n\n\n\n
URL:https://www.lajajakids.com/en/event/art-without-walls-wear-your-activism/
LOCATION:10899 Wilshire Blvd\, Los Angeles\, CA\, 90024\, United States
GEO:34.0591217;-118.4436674
X-APPLE-STRUCTURED-LOCATION;VALUE=URI;X-ADDRESS=10899 Wilshire Blvd Los Angeles CA 90024 United States;X-APPLE-RADIUS=500;X-TITLE=10899 Wilshire Blvd:geo:-118.4436674,34.0591217
CATEGORIES:Red,JaJa’s Picks
ATTACH;FMTTYPE=image/png:https://www.lajajakids.com/wp-content/uploads/2017/06/Screen-Shot-2017-06-08-at-11.16.46-AM.png
END:VEVENT
END:VCALENDAR