BEGIN:VCALENDAR
VERSION:2.0
PRODID:-//La JaJa - ECPv4.3.4.1//NONSGML v1.0//EN
CALSCALE:GREGORIAN
METHOD:PUBLISH
X-WR-CALNAME:La JaJa
X-ORIGINAL-URL:https://www.lajajakids.com/en
X-WR-CALDESC:Events for La JaJa
BEGIN:VEVENT
DTSTART;VALUE=DATE:20170930
DTEND;VALUE=DATE:20170930
DTSTAMP:20260421T201900
CREATED:20170929T053813Z
LAST-MODIFIED:20170929T053813Z
UID:52675-1506729600-1506815999@www.lajajakids.com
SUMMARY:Arcadia Moon Festival
DESCRIPTION:The traditional Chinese celebration is observed when the full moon is at its brightest for the year. The unique cultural experience offers Chinese music\, martial arts\, dance performances and more. Food trucks. Moon cakes\, the signature sweet of the festival\, will be available for purchase. Bring family and friends\, a picnic\, blankets and lawn chairs for a very special evening in the garden.\nLive Performances\n\n\tThe legend of the Moon Festival by Elite Performing Arts Group\n\tLion Dance by Fong’s Kung Fu School\n\tAudience participation of Tai Chi with Master Arnold Chien\n\tChinese Drumming by His-Lai Buddha’s Light Drum group\n\tPeacock and other dances by Tataya Dance Studio\n\tTraditional music by the Chinese Orchestra\n\nFood Trucks\n\n\tBelly Bombz – Korean fusion chicken wing\, chicken strips\, pork belly sliders and fried rice.\n\tMandoline Grill – Vietnamese fusion – bahn mi sandwiches\, Vietnamese style tacos\, Vietnamese style nachos and salads.\n\tCanvas Food Truck  – burgers\, specialty fries\, wraps\, healthy options.\n\tRockin Ice – Shaved ice desserts\n\tPeacock Café – Moon Cakes\, soft tacos\, street nachos.  Coffee\, water and other beverages.\n
URL:https://www.lajajakids.com/en/event/arcadia%e4%b8%ad%e7%a7%8b%e8%b3%9e%e6%9c%88%e5%a4%a7%e6%9c%83/
LOCATION:301 North Baldwin Ave\, Arcadia\, CA\, 91107\, United States
GEO:34.1448279;-118.0508813
X-APPLE-STRUCTURED-LOCATION;VALUE=URI;X-ADDRESS=301 North Baldwin Ave Arcadia CA 91107 United States;X-APPLE-RADIUS=500;X-TITLE=301 North Baldwin Ave:geo:-118.0508813,34.1448279
CATEGORIES:Red,JaJa’s Picks
ATTACH;FMTTYPE=image/jpeg:https://www.lajajakids.com/wp-content/uploads/2017/09/Arcadia-Moon-Festival-2017.jpg
END:VEVENT
END:VCALENDAR