BEGIN:VCALENDAR
VERSION:2.0
PRODID:-//La JaJa - ECPv4.3.4.1//NONSGML v1.0//EN
CALSCALE:GREGORIAN
METHOD:PUBLISH
X-WR-CALNAME:La JaJa
X-ORIGINAL-URL:https://www.lajajakids.com
X-WR-CALDESC:Events for La JaJa
BEGIN:VEVENT
DTSTART;VALUE=DATE:20180304
DTEND;VALUE=DATE:20180304
DTSTAMP:20260424T230451
CREATED:20180303T123652Z
LAST-MODIFIED:20180303T123652Z
UID:57311-1520121600-1520207999@www.lajajakids.com
SUMMARY:16屆海邊嘉年華慶祝日
DESCRIPTION:2018 CARNIVAL AT THE PIER\nSunday\, March 4\, 2018\n10:00AM-1:00PM\n\nPacific Park\n380 Santa Monica Pier\nSanta Monica\, CA 90401\nTickets\nOnline Registration is now closed.  Tickets can be purchased at the door on event day.\n\nSpecial thanks to the following funders for providing much needed General Operating support which gives us the flexibility to provide high quality services in a responsive and efficient manner.
URL:https://www.lajajakids.com/event/16%e5%b1%86%e6%b5%b7%e9%82%8a%e5%98%89%e5%b9%b4%e8%8f%af%e6%85%b6%e7%a5%9d%e6%97%a5/
LOCATION:380 Santa Monica Pier\, Santa Monica\, CA\, United States
GEO:34.0085774;-118.4975761
X-APPLE-STRUCTURED-LOCATION;VALUE=URI;X-ADDRESS=380 Santa Monica Pier Santa Monica CA United States;X-APPLE-RADIUS=500;X-TITLE=380 Santa Monica Pier:geo:-118.4975761,34.0085774
CATEGORIES:Red,精選推介
ATTACH;FMTTYPE=image/jpeg:https://www.lajajakids.com/wp-content/uploads/2018/03/388-CB-Pier-141.jpg
END:VEVENT
END:VCALENDAR