BEGIN:VCALENDAR
VERSION:2.0
PRODID:-//La JaJa - ECPv4.3.4.1//NONSGML v1.0//EN
CALSCALE:GREGORIAN
METHOD:PUBLISH
X-WR-CALNAME:La JaJa
X-ORIGINAL-URL:https://www.lajajakids.com/en
X-WR-CALDESC:Events for La JaJa
BEGIN:VEVENT
DTSTART;VALUE=DATE:20190119
DTEND;VALUE=DATE:20190120
DTSTAMP:20260425T031057
CREATED:20180113T023718Z
LAST-MODIFIED:20190117T154512Z
UID:55459-1547856000-1548028799@www.lajajakids.com
SUMMARY:Martin Luther King Celebration
DESCRIPTION:Join us in honoring the legacy of Dr. Martin Luther King Jr. Our partner\, Project Giving Kids\, will be onsite 10:00am to 1:00pm each day with service projects for families to participate in and learn ways you can continue to volunteer to make our communities stronger.\n\nAt 1:00pm each day\, enjoy a dance and cultural presentation by California Step Association focusing on the legacy of Dr. King and Black History Month.
URL:https://www.lajajakids.com/en/event/%e9%a6%ac%e5%be%b7%e8%b7%af%e4%b8%81%e6%85%b6%e7%a5%9d%e6%97%a5/
LOCATION: 480 N. Arroyo Blvd\, Pasadena\, CA\, 91103\, United States
GEO:34.1554477;-118.1639971
X-APPLE-STRUCTURED-LOCATION;VALUE=URI;X-ADDRESS=480 N. Arroyo Blvd Pasadena CA 91103 United States;X-APPLE-RADIUS=500;X-TITLE=480 N. Arroyo Blvd:geo:-118.1639971,34.1554477
CATEGORIES:Red,JaJa’s Picks
ATTACH;FMTTYPE=image/jpeg:https://www.lajajakids.com/wp-content/uploads/2018/01/image.jpg
END:VEVENT
END:VCALENDAR