BEGIN:VCALENDAR
VERSION:2.0
PRODID:-//La JaJa - ECPv4.3.4.1//NONSGML v1.0//EN
CALSCALE:GREGORIAN
METHOD:PUBLISH
X-WR-CALNAME:La JaJa
X-ORIGINAL-URL:https://www.lajajakids.com
X-WR-CALDESC:Events for La JaJa
BEGIN:VEVENT
DTSTART;VALUE=DATE:20180520
DTEND;VALUE=DATE:20180520
DTSTAMP:20260420T111205
CREATED:20180517T213819Z
LAST-MODIFIED:20180517T213819Z
UID:60027-1526774400-1526860799@www.lajajakids.com
SUMMARY:青年藝術日
DESCRIPTION:互助小組主要是幫助青年在藝術方面的成長\n\nThe Help Group is widely regarded for its high standards of excellence\, unique scope and breadth of services. Through its public awareness\, professional training and parent education programs and efforts at the state and national levels\, The Help Group touches the lives of young people with special needs across the country and in other parts of the world.\n\nAt the heart of its efforts is the commitment to helping young people fulfill their potential to lead positive\, productive and rewarding lives.
URL:https://www.lajajakids.com/event/%e9%9d%92%e5%b9%b4%e8%97%9d%e8%a1%93%e6%97%a5/
LOCATION:3026 Airport Ave\, Santa Monica\, CA\, United States
CATEGORIES:Red,精選推介
ATTACH;FMTTYPE=image/jpeg:https://www.lajajakids.com/wp-content/uploads/2018/05/web-900-x-600-YAC-Showblock-from-eblast.jpg
END:VEVENT
END:VCALENDAR