BEGIN:VCALENDAR
VERSION:2.0
PRODID:-//La JaJa - ECPv4.3.4.1//NONSGML v1.0//EN
CALSCALE:GREGORIAN
METHOD:PUBLISH
X-WR-CALNAME:La JaJa
X-ORIGINAL-URL:https://www.lajajakids.com/en
X-WR-CALDESC:Events for La JaJa
BEGIN:VEVENT
DTSTART;VALUE=DATE:20170916
DTEND;VALUE=DATE:20170916
DTSTAMP:20260420T221425
CREATED:20170915T180812Z
LAST-MODIFIED:20170915T180812Z
UID:51947-1505520000-1505606399@www.lajajakids.com
SUMMARY:Free Movie Series: Beauty & The Beast
DESCRIPTION:Bring your own chair and relax in the beautiful indoor gymnasium! Please bring a blanket to protect gymnasium floor. Light snacks will be provided\, but outside food is also allowed.\n\nDoors open at 7:15pm\nMovies begin at 8:00pm\n\nRegistration available in advance at hbsands.org (keyword search: City Gym movie series) or in-person at the door.\nFor more information\, call the City Gym & Pool at 714-960-8884.
URL:https://www.lajajakids.com/en/event/%e9%9b%bb%e5%bd%b1%e5%b0%88%e5%a0%b4%ef%bc%9a%e7%be%8e%e5%a5%b3%e8%88%87%e9%87%8e%e7%8d%b8/
LOCATION:1600 Palm Ave\, Huntington Beach\, CA\, 92648\, United States
GEO:33.6696186;-118.0059894
X-APPLE-STRUCTURED-LOCATION;VALUE=URI;X-ADDRESS=1600 Palm Ave Huntington Beach CA 92648 United States;X-APPLE-RADIUS=500;X-TITLE=1600 Palm Ave:geo:-118.0059894,33.6696186
CATEGORIES:Red,JaJa’s Picks
ATTACH;FMTTYPE=image/jpeg:https://www.lajajakids.com/wp-content/uploads/2017/09/370e20f3b1d9f9eaec05349be1c83093.jpg
END:VEVENT
END:VCALENDAR