BEGIN:VCALENDAR
VERSION:2.0
PRODID:-//La JaJa - ECPv4.3.4.1//NONSGML v1.0//EN
CALSCALE:GREGORIAN
METHOD:PUBLISH
X-WR-CALNAME:La JaJa
X-ORIGINAL-URL:https://www.lajajakids.com/en
X-WR-CALDESC:Events for La JaJa
BEGIN:VEVENT
DTSTART;VALUE=DATE:20180114
DTEND;VALUE=DATE:20180114
DTSTAMP:20260425T215732
CREATED:20180113T054838Z
LAST-MODIFIED:20180113T054838Z
UID:55519-1515888000-1515974399@www.lajajakids.com
SUMMARY:Steven Puppets' Aladdin
DESCRIPTION:From the pages of The Arabian Nights comes the timeless story of Aladdin\, brought to life with the help of Martin Stevens’ hand-crafted marionettes. A true “rags to riches” story\, follow Aladdin from the streets to the royal palace and beyond!  Infused with music\, mystery and magic\, Aladdin is guaranteed to please all audiences!
URL:https://www.lajajakids.com/en/event/%e9%98%bf%e6%8b%89%e4%b8%81%e6%9c%a8%e5%81%b6%e5%8a%87%e5%a0%b4/
LOCATION:9390 N. Santa Monica Blvd\, Beverly Hills\, CA\, 90210\, United States
GEO:34.07229;-118.4012055
X-APPLE-STRUCTURED-LOCATION;VALUE=URI;X-ADDRESS=9390 N. Santa Monica Blvd Beverly Hills CA 90210 United States;X-APPLE-RADIUS=500;X-TITLE=9390 N. Santa Monica Blvd:geo:-118.4012055,34.07229
CATEGORIES:Red,JaJa’s Picks
ATTACH;FMTTYPE=image/jpeg:https://www.lajajakids.com/wp-content/uploads/2018/01/aladdin-adam-jacobs.jpg
END:VEVENT
END:VCALENDAR