BEGIN:VCALENDAR
VERSION:2.0
PRODID:-//La JaJa - ECPv4.3.4.1//NONSGML v1.0//EN
CALSCALE:GREGORIAN
METHOD:PUBLISH
X-WR-CALNAME:La JaJa
X-ORIGINAL-URL:https://www.lajajakids.com
X-WR-CALDESC:Events for La JaJa
BEGIN:VEVENT
DTSTART;VALUE=DATE:20180715
DTEND;VALUE=DATE:20180715
DTSTAMP:20260419T215814
CREATED:20180713T222533Z
LAST-MODIFIED:20180713T222533Z
UID:61722-1531612800-1531699199@www.lajajakids.com
SUMMARY:迪士尼愛心演唱會
DESCRIPTION:Music for Autism is enhancing quality of life and raising public awareness through free\, autism-friendly\, interactive concerts developed specifically for individuals with autism and their families.
URL:https://www.lajajakids.com/event/%e8%bf%aa%e5%a3%ab%e5%b0%bc%e6%84%9b%e5%bf%83%e6%bc%94%e5%94%b1%e6%9c%83/
LOCATION:13164 Burbank Blvd\, Sherman Oaks\, CA\, United States
GEO:34.1716122;-118.420344
X-APPLE-STRUCTURED-LOCATION;VALUE=URI;X-ADDRESS=13164 Burbank Blvd Sherman Oaks CA United States;X-APPLE-RADIUS=500;X-TITLE=13164 Burbank Blvd:geo:-118.420344,34.1716122
CATEGORIES:Red,精選推介
ATTACH;FMTTYPE=image/jpeg:https://www.lajajakids.com/wp-content/uploads/2018/07/Music-For-Autism-Concert.jpg
END:VEVENT
END:VCALENDAR