BEGIN:VCALENDAR
VERSION:2.0
PRODID:-//La JaJa - ECPv4.3.4.1//NONSGML v1.0//EN
CALSCALE:GREGORIAN
METHOD:PUBLISH
X-WR-CALNAME:La JaJa
X-ORIGINAL-URL:https://www.lajajakids.com/en
X-WR-CALDESC:Events for La JaJa
BEGIN:VEVENT
DTSTART;VALUE=DATE:20170923
DTEND;VALUE=DATE:20171001
DTSTAMP:20260425T160125
CREATED:20170908T051440Z
LAST-MODIFIED:20170928T175712Z
UID:51607-1506124800-1506902399@www.lajajakids.com
SUMMARY:Dream Big Princess
DESCRIPTION:Sept 13-27\n\n\n\n\nTake a photo with TIANA after each screening of the movie!\n\nWith a modern twist on a classic tale\, this animated comedy is set in the great city of New Orleans. Featuring a beautiful girl named Tiana\, a frog prince who desperately wants to be human again\, and a fateful kiss that leads them both on a hilarious adventure through the mystical bayous of Louisiana.\n\nAll dates and showtimes subject to change without notice.\n\nALL RESERVED SEATING. Please select the section you prefer to be seated. In each section you may choose your ticket type as follows:\n\nVIP:$23 -Includes VIP Preferred Seat\, Popcorn in an El Capitan Theatre Souvenir Popcorn Tub & 20 oz. Drink.\n\nAdult Reserved:$14 Reserved Seat\, No Concessions Included.\n\nChild Reserved (3-11):$11 Reserved Seat\, No Concessions Included.\n\nSenior Reserved (60+):$11 Reserved Seat\, No Concessions Included.\n\nGroup Rates Available for Groups of 20 or More. Call (818) 845-3110\n\nSept 21- 26: Tangled (PG)\nTake a photo with RAPUNZEL after the movie!\n\nSept 27 - Oct 1:  Moana (PG)\nTake a photo with MOANA after the movie!\n\nDaily showtimes are 10am\, 1pm\, 4pm and 7pm.\n\n\n\n
URL:https://www.lajajakids.com/en/event/%e8%bf%aa%e5%a3%ab%e5%b0%bc%e5%85%ac%e4%b8%bb%e9%9b%bb%e5%bd%b1%e5%8a%87%e5%a0%b4/2017-09-23/
LOCATION:6838 Hollywood Blvd\, Hollywood\, CA\, 90028\, United States
GEO:34.10111;-118.339822
X-APPLE-STRUCTURED-LOCATION;VALUE=URI;X-ADDRESS=6838 Hollywood Blvd Hollywood CA 90028 United States;X-APPLE-RADIUS=500;X-TITLE=6838 Hollywood Blvd:geo:-118.339822,34.10111
CATEGORIES:Red,JaJa’s Picks
ATTACH;FMTTYPE=image/jpeg:https://www.lajajakids.com/wp-content/uploads/2017/09/01-lede-disney-dream-big-princess.jpg
END:VEVENT
END:VCALENDAR