BEGIN:VCALENDAR
VERSION:2.0
PRODID:-//La JaJa - ECPv4.3.4.1//NONSGML v1.0//EN
CALSCALE:GREGORIAN
METHOD:PUBLISH
X-WR-CALNAME:La JaJa
X-ORIGINAL-URL:https://www.lajajakids.com/en
X-WR-CALDESC:Events for La JaJa
BEGIN:VEVENT
DTSTART;VALUE=DATE:20171203
DTEND;VALUE=DATE:20171203
DTSTAMP:20260424T080509
CREATED:20171202T101302Z
LAST-MODIFIED:20171202T101339Z
UID:54470-1512259200-1512345599@www.lajajakids.com
SUMMARY:Festive est at the Autry
DESCRIPTION:1 p.m. to 4 p.m.\nView projects created by eighth-grade students from Arroyo Seco Museum Science Magnet School and learn how winter holidays are enjoyed throughout our city by the diverse peoples of the American West.\n\n\n\n\n
URL:https://www.lajajakids.com/en/event/%e8%a5%bf%e9%83%a8%e7%89%9b%e4%bb%94%e6%85%b6%e8%81%96%e8%aa%95/
LOCATION:4700 Western Heritage Way\, Los Angeles\, CA\, 90027\, United States
GEO:34.1486203;-118.2812131
X-APPLE-STRUCTURED-LOCATION;VALUE=URI;X-ADDRESS=4700 Western Heritage Way Los Angeles CA 90027 United States;X-APPLE-RADIUS=500;X-TITLE=4700 Western Heritage Way:geo:-118.2812131,34.1486203
CATEGORIES:Yellow,JaJa’s Picks
ATTACH;FMTTYPE=image/jpeg:https://www.lajajakids.com/wp-content/uploads/2017/12/autry-xmas.jpg
END:VEVENT
END:VCALENDAR