BEGIN:VCALENDAR
VERSION:2.0
PRODID:-//La JaJa - ECPv4.3.4.1//NONSGML v1.0//EN
CALSCALE:GREGORIAN
METHOD:PUBLISH
X-WR-CALNAME:La JaJa
X-ORIGINAL-URL:https://www.lajajakids.com
X-WR-CALDESC:Events for La JaJa
BEGIN:VEVENT
DTSTART;VALUE=DATE:20171027
DTEND;VALUE=DATE:20171031
DTSTAMP:20260419T145612
CREATED:20171013T053312Z
LAST-MODIFIED:20171025T040106Z
UID:53015-1509062400-1509494399@www.lajajakids.com
SUMMARY:萬聖節幽靈列車
DESCRIPTION:火車絕對是鬼故事最頻發的地方之一，不少經典的恐怖故事都在火車上發生，而這個萬聖節週末，你就有機會到遊覽火車上去體驗這一切懸疑的事件，讓你過一個過癮刺激的萬聖節！\n\nThe Los Angeles Live Steamers Railroad Museum (LALSRM) was founded in 1956. It was started by train enthusiasts for the purpose of educating people in railroad history and lore and also to further the avocation of live steam\, gas-mechanical and electronic railroad technology.\n\n\n\n\nWe operate our 7½” gauge model trains for the general public to ride from 11 am – 3 pm every Sunday (weather permitting). We also have extensive layouts for 4¾”\, 3½”\, G\, and #1 gauge model trains.\n\nThe Los Angeles Live Steamers Railroad Museum survives solely on donations by railfans who visit and ride our trains (suggested donation $3.00). In keeping with our philosophy of giving back to our community\, we also host special events for Children’s Hospital\, The City of Hope\, Make-A-Wish Foundation\, Tri Valley Special Games and other organizations.\n\n\n\n\n\n\n\n
URL:https://www.lajajakids.com/event/%e8%90%ac%e8%81%96%e7%af%80%e5%b9%bd%e9%9d%88%e5%88%97%e8%bb%8a/
LOCATION:5202 Zoo Drive\, Los Angeles\, CA\, 90027\, United States
GEO:34.1553975;-118.3005785
X-APPLE-STRUCTURED-LOCATION;VALUE=URI;X-ADDRESS=5202 Zoo Drive Los Angeles CA 90027 United States;X-APPLE-RADIUS=500;X-TITLE=5202 Zoo Drive:geo:-118.3005785,34.1553975
CATEGORIES:Red,精選推介
ATTACH;FMTTYPE=image/jpeg:https://www.lajajakids.com/wp-content/uploads/2017/10/ghosttrain_vampire_img_800_539_70_int_s_c1.jpg
END:VEVENT
END:VCALENDAR