BEGIN:VCALENDAR
VERSION:2.0
PRODID:-//La JaJa - ECPv4.3.4.1//NONSGML v1.0//EN
CALSCALE:GREGORIAN
METHOD:PUBLISH
X-WR-CALNAME:La JaJa
X-ORIGINAL-URL:https://www.lajajakids.com
X-WR-CALDESC:Events for La JaJa
BEGIN:VEVENT
DTSTART;VALUE=DATE:20180113
DTEND;VALUE=DATE:20180113
DTSTAMP:20260425T171310
CREATED:20180113T051614Z
LAST-MODIFIED:20180113T051614Z
UID:55507-1515801600-1515887999@www.lajajakids.com
SUMMARY:聖蓋博青年表演日
DESCRIPTION:The Mission Playhouse and San Gabriel Public Library present Play in a Day! Saturday morning\, January 13th at 10:00am.\n\nIf you’re between the ages of 12-17\, join us onstage for this special one day workshop led by actor Whitney Rydbeck. Hone your improvisation skills\, work on your acting chops\, and create an ensemble performance all in a day! Lunch will be provided.\n\nMr. Rydbeck\, a former professor at Pasadena City College\, has appeared in over 50 television and motion-picture titles including M*A*S*H\,  Rocky II\, Scrubs\, 7th Heaven and Star Trek: The Next Generation. \n\nThis event is made possible in part by the generous contribution of the Juliet Morales Children’s Fund.\n\nSpace is limited. To register\, visit the San Gabriel Library (500 S. Del Mar Ave) or call the library at (626) 287-0761 before Friday\, January 12 at 6:00pm. 
URL:https://www.lajajakids.com/event/%e8%81%96%e8%93%8b%e5%8d%9a%e9%9d%92%e5%b9%b4%e8%a1%a8%e6%bc%94%e6%97%a5/
LOCATION:320 S Mission Dr\, San Gabriel\, CA\, 91776\, United States
GEO:34.0984171;-118.1082667
X-APPLE-STRUCTURED-LOCATION;VALUE=URI;X-ADDRESS=320 S Mission Dr San Gabriel CA 91776 United States;X-APPLE-RADIUS=500;X-TITLE=320 S Mission Dr:geo:-118.1082667,34.0984171
CATEGORIES:Red,精選推介
ATTACH;FMTTYPE=image/jpeg:https://www.lajajakids.com/wp-content/uploads/2018/01/workshop.jpg
END:VEVENT
END:VCALENDAR