BEGIN:VCALENDAR
VERSION:2.0
PRODID:-//La JaJa - ECPv4.3.4.1//NONSGML v1.0//EN
CALSCALE:GREGORIAN
METHOD:PUBLISH
X-WR-CALNAME:La JaJa
X-ORIGINAL-URL:https://www.lajajakids.com
X-WR-CALDESC:Events for La JaJa
BEGIN:VEVENT
DTSTART;VALUE=DATE:20180804
DTEND;VALUE=DATE:20180818
DTSTAMP:20260420T122755
CREATED:20180720T063407Z
LAST-MODIFIED:20180818T022035Z
UID:61850-1533340800-1534636799@www.lajajakids.com
SUMMARY:綠色戶外電影派對
DESCRIPTION:Warner Center Park 本周六有戶外電影院，本周將播放 Grease 。\n\n* 請自行攜帶椅子或毯子喔！*\n\n2018 電影資訊：\n\nAugust 11: Coco\n\nAugust 18: Black Panther\n\nPre-show entertainment begins at 7:15 pm. Screening begins at dusk\, (around 8pm).
URL:https://www.lajajakids.com/event/%e7%b6%a0%e8%89%b2%e6%88%b6%e5%a4%96%e9%9b%bb%e5%bd%b1%e6%b4%be%e5%b0%8d-2/
LOCATION:5800 Topanga Canyon Blvd.\, Woodland Hills\, CA\, United States
GEO:34.1753396;-118.6057517
X-APPLE-STRUCTURED-LOCATION;VALUE=URI;X-ADDRESS=5800 Topanga Canyon Blvd. Woodland Hills CA United States;X-APPLE-RADIUS=500;X-TITLE=5800 Topanga Canyon Blvd.:geo:-118.6057517,34.1753396
CATEGORIES:Green,Red,精選推介
ATTACH;FMTTYPE=image/jpeg:https://www.lajajakids.com/wp-content/uploads/2018/07/pix_movies-on-the-green.jpg
END:VEVENT
END:VCALENDAR