BEGIN:VCALENDAR
VERSION:2.0
PRODID:-//La JaJa - ECPv4.3.4.1//NONSGML v1.0//EN
CALSCALE:GREGORIAN
METHOD:PUBLISH
X-WR-CALNAME:La JaJa
X-ORIGINAL-URL:https://www.lajajakids.com
X-WR-CALDESC:Events for La JaJa
BEGIN:VEVENT
DTSTART;VALUE=DATE:20180714
DTEND;VALUE=DATE:20180714
DTSTAMP:20260425T233717
CREATED:20180420T213610Z
LAST-MODIFIED:20180713T145926Z
UID:58945-1531526400-1531612799@www.lajajakids.com
SUMMARY:瑞德公園聚會
DESCRIPTION:瑞德公園舉行娛樂活動適合家庭參加，有免費現場音樂表演\n\nSANTA MONICA\, Calif. – The City of Santa Monica announces the 2nd annual Meet Me at Reed outdoor performance series at Christine Emerson Reed Park just north of the historic Miles Memorial Playhouse (1130 Lincoln Blvd). Eight free Saturday concerts between April 21 and September 15\, 2018 along with planned pre-concert family activities encourage patrons to spend a day relaxing and playing in the beautifully re-landscaped park. Patrons are encouraged to bring picnic blankets\, lawn chairs\, food and (non-alcoholic) beverages and enjoy the free entertainment and activities.\n\n\tThe series kicks off on Saturday\, April 21st with fun activities for children and adults beginning at 3:30 p.m. In addition to play\, park-goers will be encouraged to provide input for the update to the citywide Parks and Recreation Master Plan. Giveaways\, Parks and Rec BINGO\, and a Think Tank Vision Board will be a fun way for residents and patrons to provide their thoughts and dreams about the future of parks in Santa Monica. Following the pre-concert activities\, the Santa Monica Jazz All-Stars featuring jazz/world guitarist Greg Porée and his outstanding combo will have concert goers dancing and grooving on the lawn. Special guests include some of the best jazz musicians in Los Angeles such as Nick Mancini on vibraphone and the great Paul Cartwright on violin.\n\tSaturday\, May 19th brings the first-ever Santa Monica International Taiko Festival: Taiko Heroes featuring the outstanding Los Angeles-based On Ensemble as well as visiting artists from San Diego and abroad.\n\tSaturday June 16th marks the return of last year’s hit Only Voices\, An A Cappella Picnic co-produced by Tom Keyes and featuring several of Southern California’s very best all-vocal groups. Come and sing along with contemporary hits and American classics.\n\nIn celebration of July’s Parks Month\, when the City of Santa Monica encourages all to go outside and play in the city’s beautiful parks and beaches\, Meet Me At Reed performances will occur weekly on Saturdays:\n\n\tJune 16:  Only Voices\, An A Cappella PicnicJuly 7: Southern California Shakespeare Festival’s production of “A Mid-Summer Night’s Dream”\n\nJuly 14:  String Theory in Santa Monica\n\nJuly 21: Santa Monica Symphony\n\nJuly 28: The Paul MacDonald Big Band\n\nThe Meet Me At Reed series will take a break in August. All are invited to enjoy the free outdoor concert series Jazz on the Lawn\, happening every Sunday in Santa Monica’s Gandara Park.\n\n\tThe final Meet Me At Reed performance on Saturday\, September 15th will feature the return of the Troubadour Theater Company to Santa Monica performing one of their signature Shakespeare / musical mash-ups that is sure to please.\n
URL:https://www.lajajakids.com/event/%e7%91%9e%e5%be%b7%e5%85%ac%e5%9c%92%e8%81%9a%e6%9c%83/
LOCATION:1130 Lincoln Blvd\, Santa Monica\, CA\, 90403\, United States
CATEGORIES:Red,精選推介
ATTACH;FMTTYPE=image/jpeg:https://www.lajajakids.com/wp-content/uploads/2018/04/Reed.jpg
END:VEVENT
END:VCALENDAR