BEGIN:VCALENDAR
VERSION:2.0
PRODID:-//La JaJa - ECPv4.3.4.1//NONSGML v1.0//EN
CALSCALE:GREGORIAN
METHOD:PUBLISH
X-WR-CALNAME:La JaJa
X-ORIGINAL-URL:https://www.lajajakids.com/en
X-WR-CALDESC:Events for La JaJa
BEGIN:VEVENT
DTSTART;VALUE=DATE:20190223
DTEND;VALUE=DATE:20190223
DTSTAMP:20260425T011234
CREATED:20180113T053547Z
LAST-MODIFIED:20190221T182225Z
UID:55513-1550880000-1550966399@www.lajajakids.com
SUMMARY:Monster Jam
DESCRIPTION:Weekly Update – Jan. 8\n\nThe 2018 Monster Jam season opened in four locations throughout the country. Triple Threat and arena action set the stage for what is developing as an exciting year.\n\nTriple Threat Series West (Salt Lake City\, Utah)\n\nTristan England (EarthShaker®) jumped into the early point lead\, picking up two event championships on the weekend. England also notched wins in Racing\, Two-Wheel Skills and Donuts. Krysten Anderson (Grave Digger®) scored a pair of Freestyle wins and added two Donut championships. Cynthia Gauthier (Monster Mutt® Dalmatian) captured two Racing wins with Bernard Lyght (Alien Invasion™) besting competition in two Speedster Obstacle Course challenges. (Full Results)\n\nNext Event – Tacoma\, WA – Jan. 12-14\n\nTriple Threat Series East (Birmingham\, AL)\n\nJustin Sipes (Megaldon®) took a big step in seeking a second series championship in his career\, capturing two of the three event crowns. Sipes swept the ATV competition and added competition wins in Freestyle and Speedster Obstacle. Brandon Vinson (Grave Digger) kept the competition close with wins in four different competitions.  Mark List (El Toro Loco®) went 8-1 in Monster Jam racing\, claiming two titles on the weekend. (Full Results)\n\nNext Event – Greensboro\, NC – Jan. 12-13\n\nTriple Threat Series Central (Nashville\, TN)\n\nThe tightest points race in Monster Jam is developing in this series as Colton Eichelberger (Max-D™) holds a slim one-point advantage over Tyler Menninga (Grave Digger) after Round One. Eichelberger used consistency to add to wins in Freestyle\, ATV and Speedster Obstacle action. Menninga swept Two-Wheel Skills and added a pair of Freestyle and racing wins en route to a pair of event championships. Bari Musawwir (Zombie™) scored a pair of Donut wins and grabbed an event championship. (Full Results)\n\nNext Event – Kansas City\, MO – Jan. 12-14\n\nArena Tour (Charlotte\, NC)\n\nCam McQueen (Northern Nightmare) opened the series with an Event championship and backed it up with second title\, but finds himself a handful of points behind in his championship quest. Pablo Huffaker (Grave Digger) swept the Donut competition and added a pair of Racing wins with a Two-Wheel Skills title to boot. Both Huffaker and McQueen captured Freestyle with Linsey Read (Scooby-Doo!™) winning the final Freestyle. (Full Results)\n\nNext Event – Albany\, NY – Jan. 13-14\n\nStadium Championship Series 1\n\nThe second stop of the series took the 14 Monster Jam competitors to PETCO Park in San Diego\, California.  Todd LeDuc (Mutant™) was out to avenge a first round racing loss from the week before and marched through the field to claim his first Racing championship. Neil Elliott (Max-D™) put on a clinic to the delight of the fans to dominate the Two Wheel Skills\, getting the highest score ever awarded. The night was capped when Brianna Mahon (Whiplash™) claimed her first career Freestyle victory. The Event Championship went to LeDuc\, but Adam Anderson (Grave Digger®) retains the series point lead. (Results) (Points)\n\nNext Stop: Anaheim\, CA – Jan. 27\n\nStadium Championship Series 2\n\nThe series moved to Camping World Stadium in Orlando\, Florida. For the second straight week\, Jimmy Creten (Bounty Hunter) advanced to the Racing final. Creten\, who had benefitted from a first round bye\, marched past two opponents to face Charlie Pauken (Grave Digger) for the second time this season. Creten repeated his Tampa victory over Pauken to claim the title. Tom Meents (Max-D) showed mastery in the Two Wheel Skills event to add to his accomplishments. Chuck Werner (El Toro Loco®) picked up his second straight Freestyle win. Colt Stephens (Zombie) recorded a career first Event Championship. The points are tied at the top with Pauken and Werner sharing the lead. (Results) (Points)\n\nNext Stop: San Diego\, CA – Feb. 3 (off this week)\n\nStadium Championship Series 3 (begins this week)\n\nNext Stop: New Orleans\, LA – Jan. 27\n\nMonster Jam will be visiting three stadiums this weekend with event in Toronto (Jan. 13-14)\, Anaheim (Jan. 13) and Tampa(Jan. 13)
URL:https://www.lajajakids.com/en/event/%e7%8b%82%e9%87%8e%e5%a4%a7%e8%b3%bd%e8%bb%8a/
LOCATION:2000 E Gene Autry Way\, Anaheim\, CA\, United States
GEO:33.8002902;-117.8827493
X-APPLE-STRUCTURED-LOCATION;VALUE=URI;X-ADDRESS=2000 E Gene Autry Way Anaheim CA United States;X-APPLE-RADIUS=500;X-TITLE=2000 E Gene Autry Way:geo:-117.8827493,33.8002902
CATEGORIES:Red,JaJa’s Picks
ATTACH;FMTTYPE=image/jpeg:https://www.lajajakids.com/wp-content/uploads/2018/01/Stafford1200.jpg
END:VEVENT
END:VCALENDAR