BEGIN:VCALENDAR
VERSION:2.0
PRODID:-//La JaJa - ECPv4.3.4.1//NONSGML v1.0//EN
CALSCALE:GREGORIAN
METHOD:PUBLISH
X-WR-CALNAME:La JaJa
X-ORIGINAL-URL:https://www.lajajakids.com
X-WR-CALDESC:Events for La JaJa
BEGIN:VEVENT
DTSTART;VALUE=DATE:20190203
DTEND;VALUE=DATE:20190203
DTSTAMP:20260426T023227
CREATED:20180203T020219Z
LAST-MODIFIED:20190131T215411Z
UID:56368-1549152000-1549238399@www.lajajakids.com
SUMMARY:洛杉磯夏令營大展 (西區)
DESCRIPTION:\n\n\n\nFor the past 15 years I have brought to Los Angeles\, the Tips on Trips and Camps Annual Summer Opportunities Fair — an event where parents and their children (ages 8 to 18+) can view an array of summer overnight options\, talk to camp and program directors\, pick up brochures and receive advice from me and other Tips on Trips advisors.\n\nParticipating summer overnight programs will include traditional camps\, specialty camps\, community service programs\, language immersion programs\, sailing programs\, outdoor adventure\, teen travel\, academic programs — and more!  There are always so many opportunities to consider!
URL:https://www.lajajakids.com/event/%e6%b4%9b%e6%9d%89%e7%a3%af%e5%a4%8f%e6%97%a5%e5%a4%a7%e5%9e%8b%e5%b1%95%e8%a6%bd%e6%9c%83/
LOCATION:2701 North Sepulveda Boulevard\, Los Angeles\, 90049\, United States
GEO:34.124832;-118.4791916
X-APPLE-STRUCTURED-LOCATION;VALUE=URI;X-ADDRESS=2701 North Sepulveda Boulevard Los Angeles 90049 United States;X-APPLE-RADIUS=500;X-TITLE=2701 North Sepulveda Boulevard:geo:-118.4791916,34.124832
CATEGORIES:Red,精選推介
ATTACH;FMTTYPE=image/jpeg:https://www.lajajakids.com/wp-content/uploads/2018/02/camp.jpg
END:VEVENT
END:VCALENDAR