BEGIN:VCALENDAR
VERSION:2.0
PRODID:-//La JaJa - ECPv4.3.4.1//NONSGML v1.0//EN
CALSCALE:GREGORIAN
METHOD:PUBLISH
X-WR-CALNAME:La JaJa
X-ORIGINAL-URL:https://www.lajajakids.com/en
X-WR-CALDESC:Events for La JaJa
BEGIN:VEVENT
DTSTART;VALUE=DATE:20180316
DTEND;VALUE=DATE:20180408
DTSTAMP:20260424T035520
CREATED:20180324T030947Z
LAST-MODIFIED:20180324T030947Z
UID:58096-1521158400-1523231999@www.lajajakids.com
SUMMARY:Knottâ€™s Boysenberry Festival
DESCRIPTION:\n\n \n\nIf you want to celebrate the boysenberry\,Â  Knott's is the berry best place.\n\nKnottâ€™s Berry Farm is the birthplace of the Boysenberry. Each spring\, Knottâ€™s celebrates the flavorful berry and its historic roots during the Knottâ€™s Boysenberry Festival with unique food and live entertainment. The three-week food festival features over 75 one-of-a-kind boysenberry inspired dishes\, drinks and more\, plus foot-stompinâ€™ entertainment\, the Wine and Craft Brew Tasting Garden\, and other family fun.\n\nNew foods for 2018 include: Boysenberry Pierogies\, Boysenberry Quesadillas\, Boysenberry Coconut Macaroons\, and more.\n\nThe Knott's Boysenberry Festival runs March 16 - April 8. â€‹The limited-time food festival is included with admission to Knottâ€™s Berry Farm.\nDate: Fri Mar 16\, 2018 - Sun Apr 8\, 2018\nVarious times\nAge:Â All ages\nPrice:Â included with admission
URL:https://www.lajajakids.com/en/event/%e6%b3%a2%e6%a3%ae%e8%8e%93%e5%98%89%e5%b9%b4%e8%8f%af/
LOCATION:8039 Beach Boulevard\, Buena Park\, CA\, 90620\, United States
GEO:33.843854;-118.0001748
X-APPLE-STRUCTURED-LOCATION;VALUE=URI;X-ADDRESS=8039 Beach Boulevard Buena Park CA 90620 United States;X-APPLE-RADIUS=500;X-TITLE=8039 Beach Boulevard:geo:-118.0001748,33.843854
CATEGORIES:Purple
END:VEVENT
END:VCALENDAR