BEGIN:VCALENDAR
VERSION:2.0
PRODID:-//La JaJa - ECPv4.3.4.1//NONSGML v1.0//EN
CALSCALE:GREGORIAN
METHOD:PUBLISH
X-WR-CALNAME:La JaJa
X-ORIGINAL-URL:https://www.lajajakids.com/en
X-WR-CALDESC:Events for La JaJa
BEGIN:VEVENT
DTSTART;VALUE=DATE:20171202
DTEND;VALUE=DATE:20171224
DTSTAMP:20260424T110056
CREATED:20171202T100644Z
LAST-MODIFIED:20171202T100805Z
UID:54466-1512172800-1514159999@www.lajajakids.com
SUMMARY:Holidays at the Aquarium
DESCRIPTION:\n\nGet into the holiday spirit December 2 through 24\, 2017\, at the Aquarium during the month-long Aquarium Holidays celebration. Aquarium Holidays features special holiday décor\, a display of gingerbread houses\, daily Penguin Walks at 10 a.m.\, shopping\, snowfall in the Great Hall\, daily screenings of the original cartoon Dr. Seuss’ How the Grinch Stole Christmas\, a special holiday menu in Café Scuba\, and daily appearances by Santa Diver and the Aquarium characters in their holiday outfits. On weekends the Aquarium will have a snow play area\, children’s crafts\, and photo opportunities with Santa. Hanukkah storytelling with opportunities to play dreidel will be presented on December 2\, 3\, 9\, 10\, 16\, and 17.\nSpark of Love Toy Drive\nA toy drive runs daily December 2 through 24 and supports the Long Beach Fire Department Spark of Love Toy Drive. Aquarium guests who donate a new\, unwrapped toy – at a $15 value or more – will receive a coupon valid for $10 off adult/$3 off child\, up to 4 total admissions. Aquarium members will receive a complimentary Aquarium admission ticket for each toy donated (max of 6).\nAQUARIUM HOLIDAYS SCHEDULE December 2-24\, 2017\nVISIT WITH SANTA\nIn between his dive shows\, Santa will appear in his traditional attire for photo opportunities.\nWeekends December 2-23 from 10:30 a.m. to 4:30 p.m.\nDecember 24 from 10:30 a.m. to 1:00 p.m.\nSNOW PLAY AREA\nPlay in real snow! Just get a hand stamp at the exit in order to re-enter the Aquarium.\nWeekends 9:00 a.m.-3:00 p.m. Plaza in Front of the Aquarium (weather dependent)\nSANTA DIVER\nSee Santa dive with the fishes.\nWeekends: 12:45 p.m. and 3:45 p.m.\nWeekdays: 1:30 p.m.\nHANUKKAH STORYTELLING AND DREIDEL ACTIVITY\nDecember 2-3 at 4:00 p.m.\nWeekends December 9-24 at 12:30 p.m.\nMarine Life Theater\nMEET AN AQUARIUM HOLIDAY CHARACTER\nTake photos with our ray\, polar bear\, penguin\, and otter costume characters in their holiday attire. Weekends 10:45 a.m.\, 11:45 a.m.\, 1:45 p.m.\, 2:45 p.m.\, 3:30 p.m.\, 4:30 p.m. Weekdays 10:30 a.m.\, 12:00 p.m.\, 2:00 p.m.\, 3:30 p.m.\n“SNOW”\nWatch as snow falls in the Great Hall. Weekends 10:45 a.m.\, 11:45 a.m.\, 1:45 p.m.\, 2:45 p.m.\, 3:30 p.m.\, 4:30 p.m. Weekdays 10:30 a.m.\, 12:00 p.m.\, 2:00 p.m.\, 3:30 p.m.\nFREE HOLIDAY FILM\nOriginal cartoon Dr. Seuss’ How the Grinch Stole Christmas\nWeekends 11:00 a.m.\, 2:40 p.m. (except December 2-3)\, 4:30 p.m.\nWeekdays 11:00 a.m.\, 2:40 p.m.\,\nOcean Theater\nPENGUIN WALK\n10:00 a.m.\n2nd Floor Northern Pacific Gallery\, in front of BP Sea Otter Habitat\nHOLIDAY CRAFTS\nWeekends 9:00 a.m. – 5:00 p.m.\nGINGERBREAD HOUSE DISPLAY\nSee a special ocean-themed gingerbread house display created by Aquarium staff.\n\nAll program locations in Aquarium Great Hall area unless otherwise noted. All programs subject to change and weather dependent\n\n\n\n\n\n\n\n\n
URL:https://www.lajajakids.com/en/event/%e6%b0%b4%e6%97%8f%e9%a4%a8%e4%bd%b3%e7%af%80%e6%85%b6%e5%85%b8/
LOCATION:100 Aquarium Way\, Long Beach\, CA\, 90802\, United States
GEO:33.7621452;-118.1969144
X-APPLE-STRUCTURED-LOCATION;VALUE=URI;X-ADDRESS=100 Aquarium Way Long Beach CA 90802 United States;X-APPLE-RADIUS=500;X-TITLE=100 Aquarium Way:geo:-118.1969144,33.7621452
CATEGORIES:Yellow,JaJa’s Picks
ATTACH;FMTTYPE=image/jpeg:https://www.lajajakids.com/wp-content/uploads/2017/12/aquarium-holidayt.jpg
END:VEVENT
END:VCALENDAR