BEGIN:VCALENDAR
VERSION:2.0
PRODID:-//La JaJa - ECPv4.3.4.1//NONSGML v1.0//EN
CALSCALE:GREGORIAN
METHOD:PUBLISH
X-WR-CALNAME:La JaJa
X-ORIGINAL-URL:https://www.lajajakids.com/en
X-WR-CALDESC:Events for La JaJa
BEGIN:VEVENT
DTSTART;VALUE=DATE:20180330
DTEND;VALUE=DATE:20180401
DTSTAMP:20260422T182850
CREATED:20180330T013010Z
LAST-MODIFIED:20180330T013010Z
UID:58260-1522368000-1522627199@www.lajajakids.com
SUMMARY:A Wrinkle in Time
DESCRIPTION:\n\n \n\nOne of the great joys of parenting is sharing a favorite childhood book with your kids.Â  And Oprah.Â  Â From visionary director AvaÂ DuVernayÂ comes Disneyâ€™sÂ A Wrinkle in Time\,Â an epic adventure based on Madeleine Lâ€™Engleâ€™s timeless classic.\n\nMiddle schooler Meg MurryÂ must go on an adventure through time and space\, to worlds beyond her imagination\, in an effort to find her lost father.Â  To make it back home to Earth\, Meg must face the darkness within herself in order to harness the strength necessary to defeat the darkness rapidly enveloping the Universe.\n\nAs usual\, the El Capitan offers extras that make it one of the best places to see the film in LA.Â Exclusive experiences at The El CapitanÂ include an all-new kaleidoscope curtain show of celestial light and sound before the feature. Plus\, see an exhibit featuring costumes worn by Oprah Winfrey\, Reese Witherspoon\, Mindy Kaling and more!\n\nThe film is rated PG and isÂ 1 hour and 59 minutes long.\n\nParking rates at the Hollywood & Highland Center are $2 for up to four hours with validation from El Capitan Theatre.\nDate: Fri Mar 9\, 2018 - Sun Apr 1\, 2018Â Â Various times\nAge:Â 8 and up\nPrice:Â General $13-$16; VIP $26
URL:https://www.lajajakids.com/en/event/%e6%99%82%e9%96%93%e7%9a%84%e7%9a%ba%e8%a4%b6/
LOCATION:6838 Hollywood Blvd\, Hollywood\, CA\, 90028\, United States
GEO:34.10111;-118.339822
X-APPLE-STRUCTURED-LOCATION;VALUE=URI;X-ADDRESS=6838 Hollywood Blvd Hollywood CA 90028 United States;X-APPLE-RADIUS=500;X-TITLE=6838 Hollywood Blvd:geo:-118.339822,34.10111
CATEGORIES:Memorial Weekend
END:VEVENT
END:VCALENDAR