BEGIN:VCALENDAR
VERSION:2.0
PRODID:-//La JaJa - ECPv4.3.4.1//NONSGML v1.0//EN
CALSCALE:GREGORIAN
METHOD:PUBLISH
X-WR-CALNAME:La JaJa
X-ORIGINAL-URL:https://www.lajajakids.com
X-WR-CALDESC:Events for La JaJa
BEGIN:VEVENT
DTSTART;VALUE=DATE:20170603
DTEND;VALUE=DATE:20170603
DTSTAMP:20260425T185543
CREATED:20170602T225637Z
LAST-MODIFIED:20170602T225655Z
UID:42336-1496448000-1496534399@www.lajajakids.com
SUMMARY:戶外看電影: Rogue One A Star Wars Story
DESCRIPTION:Whether you’re surfing in Malibu\, grabbing a bite in Pasadena\, or hiking the hills in one of our amazing parks\, without a doubt… Los Angeles is the place to be. It’s the entertainment capital of the world and a paradise of sun\, beach and good times. Just like our vast metropolis\, Street Food Cinema has developed 12 different locations to provide moviegoers with more chances to catch their favorite flick on the big screen.\n\nCome early and catch top local bands and see if you’re lucky enough to get chosen for our nightly audience game. And\, of course\, we all know some of the tastiest eats comes from a food truck so we’re curating the best of the best to fill your belly\, mind and soul as the sun sets and the movie begins.\n\n\n\nThe Rebel Alliance makes a risky move to steal the plans for the Death Star\, setting up the epic saga to follow.
URL:https://www.lajajakids.com/event/%e6%88%b6%e5%a4%96%e7%9c%8b%e9%9b%bb%e5%bd%b1-rogue-one-a-star-wars-story/
LOCATION:2575 Paloma St.\, Pasadena\, CA\, 91107\, United States
GEO:34.1593453;-118.095827
X-APPLE-STRUCTURED-LOCATION;VALUE=URI;X-ADDRESS=2575 Paloma St. Pasadena CA 91107 United States;X-APPLE-RADIUS=500;X-TITLE=2575 Paloma St.:geo:-118.095827,34.1593453
ATTACH;FMTTYPE=image/png:https://www.lajajakids.com/wp-content/uploads/2017/06/Rogue-One-A-Star-Wars-Story-Meta-Slider-1-455x340.png
END:VEVENT
END:VCALENDAR