BEGIN:VCALENDAR
VERSION:2.0
PRODID:-//La JaJa - ECPv4.3.4.1//NONSGML v1.0//EN
CALSCALE:GREGORIAN
METHOD:PUBLISH
X-WR-CALNAME:La JaJa
X-ORIGINAL-URL:https://www.lajajakids.com
X-WR-CALDESC:Events for La JaJa
BEGIN:VEVENT
DTSTART;VALUE=DATE:20171014
DTEND;VALUE=DATE:20171014
DTSTAMP:20260423T085717
CREATED:20171013T152622Z
LAST-MODIFIED:20171013T152622Z
UID:53078-1507939200-1508025599@www.lajajakids.com
SUMMARY:彩虹小馬的小禮物
DESCRIPTION:Make and take home a Friendship Festival banner\n\nColor an activity sheet you’ll only find at Toys ”R” Us\n\nTake home FREE my Little Pony Cutie Mark temporary tattoos\n\nAND a FREE\, exclusive Friendship Festival poster
URL:https://www.lajajakids.com/event/%e5%bd%a9%e8%99%b9%e5%b0%8f%e9%a6%ac%e7%9a%84%e5%b0%8f%e7%a6%ae%e7%89%a9/
LOCATION:Participating Locations\, Los Angeles\, CA\, United States
GEO:34.0655559;-118.1684149
X-APPLE-STRUCTURED-LOCATION;VALUE=URI;X-ADDRESS=Participating Locations Los Angeles CA United States;X-APPLE-RADIUS=500;X-TITLE=Participating Locations:geo:-118.1684149,34.0655559
CATEGORIES:Red,精選推介
ATTACH;FMTTYPE=image/png:https://www.lajajakids.com/wp-content/uploads/2017/10/mlp-movie-image.png
END:VEVENT
END:VCALENDAR