BEGIN:VCALENDAR
VERSION:2.0
PRODID:-//La JaJa - ECPv4.3.4.1//NONSGML v1.0//EN
CALSCALE:GREGORIAN
METHOD:PUBLISH
X-WR-CALNAME:La JaJa
X-ORIGINAL-URL:https://www.lajajakids.com/en
X-WR-CALDESC:Events for La JaJa
BEGIN:VEVENT
DTSTART;VALUE=DATE:20170617
DTEND;VALUE=DATE:20170617
DTSTAMP:20260425T024656
CREATED:20170614T203738Z
LAST-MODIFIED:20170616T051618Z
UID:43772-1497657600-1497743999@www.lajajakids.com
SUMMARY:Pasadena free reading screenings
DESCRIPTION:Saturday\, June 17 & Saturday\, August 12\, 2017\nIf you believe your child struggles with reading or if your child’s teacher has noticed reading weaknesses\, he or she may benefit from a reading assessment. Please contact us to schedule your free assessment! (Appointments are limited and required.)\nFree Reading Assessments inform you about:\n\n\tEarly signs of reading difficulty\n\tEvidence-based reading interventions\n\tNavigating the public school IEP process\n\tSupport from local parent advocates and attorneys\n\nDoes Your Child:\n\n\tAvoid reading aloud or for pleasure?\n\tBecome anxious when asked to read aloud?\n\tHave trouble sounding out new and unfamiliar words?\n\tStruggle with spelling?\n
URL:https://www.lajajakids.com/en/event/%e5%b8%95%e8%90%a8%e8%bf%aa%e7%ba%b3%e5%85%8d%e8%b4%b9%e9%98%85%e8%af%bb%e6%8c%87%e5%b0%8e/2017-06-17/
LOCATION:595 E. Colorado Blvd Mezzanine Suite\, Pasadena\, CA\, 91101\, United States
GEO:34.1460395;-118.1379535
X-APPLE-STRUCTURED-LOCATION;VALUE=URI;X-ADDRESS=595 E. Colorado Blvd Mezzanine Suite Pasadena CA 91101 United States;X-APPLE-RADIUS=500;X-TITLE=595 E. Colorado Blvd Mezzanine Suite:geo:-118.1379535,34.1460395
CATEGORIES:Red,JaJa’s Picks
ATTACH;FMTTYPE=image/png:https://www.lajajakids.com/wp-content/uploads/2017/06/download1.png
END:VEVENT
END:VCALENDAR