BEGIN:VCALENDAR
VERSION:2.0
PRODID:-//La JaJa - ECPv4.3.4.1//NONSGML v1.0//EN
CALSCALE:GREGORIAN
METHOD:PUBLISH
X-WR-CALNAME:La JaJa
X-ORIGINAL-URL:https://www.lajajakids.com
X-WR-CALDESC:Events for La JaJa
BEGIN:VEVENT
DTSTART;VALUE=DATE:20181124
DTEND;VALUE=DATE:20181125
DTSTAMP:20260423T114735
CREATED:20170915T184753Z
LAST-MODIFIED:20181123T215436Z
UID:51965-1543017600-1543190399@www.lajajakids.com
SUMMARY:小蜘蛛大世界
DESCRIPTION:\n小蜘蛛历经半个多世纪长盛不衰\nSeptember 16 - November 25\, 2018\nOur one-of-a-kind Spider Pavilion offers a truly unique experience. Walk through a safe\, fascinating open-air pavilion and learn about the amazing engineering that goes into each spider's web.\n\nMEMBERSHIP: See it for free\, become a Member today!\n\nCURRENT MEMBERS: Reserve your tickets today\n\nGROUPS: Groups of 10 or more receive special discounts.\n\nExplore the pavilion and walk through a maze of orb weavers and their intricate webs\, and hear stories from our Gallery Interpreters about these remarkable creatures as you wander around the Spider Den to see spiders in enclosed habitats.\n\nOrb Weavers\n\nSpiders are some of the most amazing architects in the world – working with eight legs and some of the most high-performance building material known to man.  Learn about the different designs and tactics each spider weaves with\, and check out spectacular webs that range up to three meters in diameter.\n\nGolden Silk Spider (Nephila clavipes)\n\n\n\nLargest species of orb weaving spider in the U.S. Their silk has a gold tint and is one of the strongest biological fibers known to humans\, being five times the tensile strength of steel.\n\nGarden Spider (Argiope aurantia)\n\n\n\nTheir silk webs can span 1 to 3 meters across. Can you find the vertical stabilimentum (zigzag pattern) they design into their webs?\n\nSpider Den\n\nDuring your experience visit the Spider Den\, a discovery area designed to give you a glimpse into the private lives of spiders. Peer into closed habitats that are home to tarantulas\, wolf spiders\, jumping spiders and more\, as you learn about how spiders play a big role in our world.\n\nPink Toe Tarantula\n\n\n\nThis tarantula can adapt to life in the city. It often constructs its silken lairs on walls of buildings and other structures where it can easily detect insect prey.\n\nJumping Spiders\n\n\n\nThe only type of spider that actually jumps. With their fast reflexes and great vision they are nimble predators.\n\nOften misunderstood\, spiders are unique and talented creatures that are capable of extraordinary things. Explore the world of these amazing arachnids in the only Spider Pavilion in the U.S.
URL:https://www.lajajakids.com/event/%e5%b0%8f%e8%9c%98%e8%9b%9b%e5%a4%a7%e4%b8%96%e7%95%8c/
LOCATION:900 Exposition Blvd\, \, Los Angeles\, CA\, 90007\, United States
GEO:34.0170769;-118.2886818
X-APPLE-STRUCTURED-LOCATION;VALUE=URI;X-ADDRESS=900 Exposition Blvd  Los Angeles CA 90007 United States;X-APPLE-RADIUS=500;X-TITLE=900 Exposition Blvd\,:geo:-118.2886818,34.0170769
CATEGORIES:Red,精選推介
ATTACH;FMTTYPE=image/jpeg:https://www.lajajakids.com/wp-content/uploads/2017/09/sp.jpg
END:VEVENT
END:VCALENDAR