BEGIN:VCALENDAR
VERSION:2.0
PRODID:-//La JaJa - ECPv4.3.4.1//NONSGML v1.0//EN
CALSCALE:GREGORIAN
METHOD:PUBLISH
X-WR-CALNAME:La JaJa
X-ORIGINAL-URL:https://www.lajajakids.com/en
X-WR-CALDESC:Events for La JaJa
BEGIN:VEVENT
DTSTART;VALUE=DATE:20180915
DTEND;VALUE=DATE:20180915
DTSTAMP:20260423T012044
CREATED:20170915T165137Z
LAST-MODIFIED:20180914T141534Z
UID:51912-1536969600-1537055999@www.lajajakids.com
SUMMARY:Kidical Mass - Talk Like a Pirate MASS-ive ride
DESCRIPTION:The goal of the Santa Monica Safe Routes to School Program is to help families bicycle and walk to school by offering education and encouragement programs\, and by improving walking and bicycling conditions near schools. This type of program has many benefits for the community\, including:\n\n\tHelping children arrive at school alert and ready to learn\n\tHelping families establish healthy habits of daily physical activity\n\tEncouraging families to make walking and biking to school part of everyday life\n\tTeaching children the skills and knowledge they need to be safe and independent when walking or bicycling\, including rules of the road\, physical skills\, and safety behaviors\n\tHelping reduce auto congestion and improve traffic safety outside our schools\n\tImproving air quality by reducing vehicle emissions associated with school travel\n\tSchedule:Parents are responsible for their own children.Meet in the Park at 25th and Oak.\n\nPlease RSVP via email.\n
URL:https://www.lajajakids.com/en/event/%e5%b0%8f%e6%b5%b7%e7%9b%9c%e6%ad%a1%e6%a8%82%e9%a8%8e%e8%bb%8a%e8%a1%8c/
LOCATION:2600 Ocean Park Blvd\, Santa Monica\, CA\, 90405\, United States
GEO:34.0173237;-118.4569798
X-APPLE-STRUCTURED-LOCATION;VALUE=URI;X-ADDRESS=2600 Ocean Park Blvd Santa Monica CA 90405 United States;X-APPLE-RADIUS=500;X-TITLE=2600 Ocean Park Blvd:geo:-118.4569798,34.0173237
CATEGORIES:Red,JaJa’s Picks
ATTACH;FMTTYPE=image/jpeg:https://www.lajajakids.com/wp-content/uploads/2017/09/Kidical-Mass-Wenatchee.jpg
END:VEVENT
END:VCALENDAR