BEGIN:VCALENDAR
VERSION:2.0
PRODID:-//La JaJa - ECPv4.3.4.1//NONSGML v1.0//EN
CALSCALE:GREGORIAN
METHOD:PUBLISH
X-WR-CALNAME:La JaJa
X-ORIGINAL-URL:https://www.lajajakids.com
X-WR-CALDESC:Events for La JaJa
BEGIN:VEVENT
DTSTART;VALUE=DATE:20170923
DTEND;VALUE=DATE:20171001
DTSTAMP:20260425T230025
CREATED:20170922T032419Z
LAST-MODIFIED:20170928T175246Z
UID:52287-1506124800-1506902399@www.lajajakids.com
SUMMARY:家庭歡樂表演劇場
DESCRIPTION:Step up to a bigger theatrical experience with an outstanding Creating Arts Company Jr. Broadway Production! These shows are one hour and thirty minutes with a ten minute intermission. They are song-interactive and edited for families and their children ages eight and up! Jr. Broadway Shows are the perfect way to introduce your older child to a bigger theatrical experience and they are fun for the whole family!
URL:https://www.lajajakids.com/event/%e5%ae%b6%e5%ba%ad%e6%ad%a1%e6%a8%82%e8%a1%a8%e6%bc%94%e5%8a%87%e5%a0%b4/2017-09-23/
LOCATION:1404 3rd Street Promenade\, Santa Monica\, CA\, 90401\, United States
GEO:34.0154063;-118.4958936
X-APPLE-STRUCTURED-LOCATION;VALUE=URI;X-ADDRESS=1404 3rd Street Promenade Santa Monica CA 90401 United States;X-APPLE-RADIUS=500;X-TITLE=1404 3rd Street Promenade:geo:-118.4958936,34.0154063
CATEGORIES:Red,精選推介
ATTACH;FMTTYPE=image/jpeg:https://www.lajajakids.com/wp-content/uploads/2017/09/best-superhero-movies-all-time-pic.jpg
END:VEVENT
END:VCALENDAR