BEGIN:VCALENDAR
VERSION:2.0
PRODID:-//La JaJa - ECPv4.3.4.1//NONSGML v1.0//EN
CALSCALE:GREGORIAN
METHOD:PUBLISH
X-WR-CALNAME:La JaJa
X-ORIGINAL-URL:https://www.lajajakids.com
X-WR-CALDESC:Events for La JaJa
BEGIN:VEVENT
DTSTART;VALUE=DATE:20180505
DTEND;VALUE=DATE:20180505
DTSTAMP:20260419T134534
CREATED:20180504T205137Z
LAST-MODIFIED:20180504T205137Z
UID:59424-1525478400-1525564799@www.lajajakids.com
SUMMARY:墨西哥五月節大遊行
DESCRIPTION:這個週六將會有5月5日墨西哥節，有各種美食和精彩活動\n\nThis is a family friendly free community event. The parade will be a culturally rich and colorful event blending traditional Mexican cultural performances with Mexican American innovations including classic cars\, traditional folklorico dancers\, Aztec dancers\, charro\, floats\, and a mariachi band. The parade will end and transition into a festival featuring food vendors\, piñatas\, face painting\, informational booths\, live performances and entertainment . NO CANOPIES PERMITTED. We will have a parade queen and grand marshal.
URL:https://www.lajajakids.com/event/%e5%a2%a8%e8%a5%bf%e5%93%a5%e4%ba%94%e6%9c%88%e7%af%80%e5%a4%a7%e9%81%8a%e8%a1%8c/
LOCATION:767 California Avenue\, Venice\, CA\, 90291\, United States
GEO:33.9946681;-118.4637169
X-APPLE-STRUCTURED-LOCATION;VALUE=URI;X-ADDRESS=767 California Avenue Venice CA 90291 United States;X-APPLE-RADIUS=500;X-TITLE=767 California Avenue:geo:-118.4637169,33.9946681
CATEGORIES:Red,精選推介
ATTACH;FMTTYPE=image/jpeg:https://www.lajajakids.com/wp-content/uploads/2018/05/27907890_10212834098019789_1321409431520419743_o.jpg
END:VEVENT
END:VCALENDAR