BEGIN:VCALENDAR
VERSION:2.0
PRODID:-//La JaJa - ECPv4.3.4.1//NONSGML v1.0//EN
CALSCALE:GREGORIAN
METHOD:PUBLISH
X-WR-CALNAME:La JaJa
X-ORIGINAL-URL:https://www.lajajakids.com/en
X-WR-CALDESC:Events for La JaJa
BEGIN:VEVENT
DTSTART;VALUE=DATE:20190317
DTEND;VALUE=DATE:20190317
DTSTAMP:20260422T104303
CREATED:20180303T050249Z
LAST-MODIFIED:20190316T015750Z
UID:57295-1552780800-1552867199@www.lajajakids.com
SUMMARY:Santa Monica Community Purim Carnival
DESCRIPTION:\nWelcome to The Santa Monica Synagogue\nThe Santa Monica Synagogue is an intimate Reform congregation of 250 families\, founded in 1981. We come together to worship\, study\, engage in tikun olam (repairing the world)\, celebrate our joyous occasions\, and be a support to one another in times of difficulty.\n\nWe worship God and celebrate our Jewish heritage in an egalitarian atmosphere that invites participation and creativity.  Through religious observances\, educational programs\, and social gatherings\, our synagogue offers opportunities for individuals and families to enrich their lives\, connect with others\, and to discover our own relationship to Judaism.\n\n\nCome Visit\n\nPurim Carnival\nJoin us for fun\, games and festivities at our annual Purim Carnival in collaboration with congregation Beth Shir Shalom on Sunday March 4th from 11 am – 3 pm.\n\n
URL:https://www.lajajakids.com/en/event/%e5%9c%a3%e5%a1%94%e8%8e%ab%e5%b0%bc%e5%8d%a1%e5%98%89%e5%b9%b4%e5%8d%8e/
LOCATION:1448 18th Street\, Santa Monica\, CA\, 90404\, United States
GEO:34.0258084;-118.4806468
X-APPLE-STRUCTURED-LOCATION;VALUE=URI;X-ADDRESS=1448 18th Street Santa Monica CA 90404 United States;X-APPLE-RADIUS=500;X-TITLE=1448 18th Street:geo:-118.4806468,34.0258084
CATEGORIES:Red,JaJa’s Picks
ATTACH;FMTTYPE=image/jpeg:https://www.lajajakids.com/wp-content/uploads/2018/03/7dc6fb2883.jpg
END:VEVENT
END:VCALENDAR