BEGIN:VCALENDAR
VERSION:2.0
PRODID:-//La JaJa - ECPv4.3.4.1//NONSGML v1.0//EN
CALSCALE:GREGORIAN
METHOD:PUBLISH
X-WR-CALNAME:La JaJa
X-ORIGINAL-URL:https://www.lajajakids.com
X-WR-CALDESC:Events for La JaJa
BEGIN:VEVENT
DTSTART;TZID=America/Los_Angeles:20180317T080000
DTEND;TZID=America/Los_Angeles:20180317T170000
DTSTAMP:20260421T031458
CREATED:20180317T015443Z
LAST-MODIFIED:20180317T015443Z
UID:57826-1521273600-1521306000@www.lajajakids.com
SUMMARY:動物國王Jack Hanna
DESCRIPTION:America’s most beloved animal expert\, Jack Hanna\, brings his three-time Emmy Award-winning television series to the live stage. In this awe-inspiring event\, Jungle Jack will introduce you to some of the world’s most spectacular animals and share humorous stories and amazing footage from his worldwide adventures. You’ve seen his countless appearances on “David Letterman\,” “Good Morning America” and so many more – now you can enjoy Jungle Jack’s infectious energy as he takes you “into the wild!” to see some of the world’s most fascinating animals\, LIVE!
URL:https://www.lajajakids.com/event/%e5%8b%95%e7%89%a9%e5%9c%8b%e7%8e%8bjack-hanna/
LOCATION:14900 La Mirada Blvd.\, La Mirada\, CA\, United States
GEO:33.8982303;-118.0068064
X-APPLE-STRUCTURED-LOCATION;VALUE=URI;X-ADDRESS=14900 La Mirada Blvd. La Mirada CA United States;X-APPLE-RADIUS=500;X-TITLE=14900 La Mirada Blvd.:geo:-118.0068064,33.8982303
END:VEVENT
END:VCALENDAR