BEGIN:VCALENDAR
VERSION:2.0
PRODID:-//La JaJa - ECPv4.3.4.1//NONSGML v1.0//EN
CALSCALE:GREGORIAN
METHOD:PUBLISH
X-WR-CALNAME:La JaJa
X-ORIGINAL-URL:https://www.lajajakids.com/en
X-WR-CALDESC:Events for La JaJa
BEGIN:VEVENT
DTSTART;VALUE=DATE:20170610
DTEND;VALUE=DATE:20170610
DTSTAMP:20260420T223705
CREATED:20170609T233047Z
LAST-MODIFIED:20170609T234549Z
UID:43574-1497052800-1497139199@www.lajajakids.com
SUMMARY:California Honey Festival
DESCRIPTION:
URL:https://www.lajajakids.com/en/event/%e5%8a%a0%e5%b7%9e%e8%9c%9c%e7%b3%96%e7%af%80/
LOCATION:downtown Fillmore
GEO:34.3991639;-118.918154
X-APPLE-STRUCTURED-LOCATION;VALUE=URI;X-ADDRESS=downtown Fillmore;X-APPLE-RADIUS=500;X-TITLE=downtown Fillmore:geo:-118.918154,34.3991639
CATEGORIES:Red
ATTACH;FMTTYPE=image/jpeg:https://www.lajajakids.com/wp-content/uploads/2017/06/honey-festival-2017-final_orig.jpg
END:VEVENT
END:VCALENDAR