BEGIN:VCALENDAR
VERSION:2.0
PRODID:-//La JaJa - ECPv4.3.4.1//NONSGML v1.0//EN
CALSCALE:GREGORIAN
METHOD:PUBLISH
X-WR-CALNAME:La JaJa
X-ORIGINAL-URL:https://www.lajajakids.com/en
X-WR-CALDESC:Events for La JaJa
BEGIN:VEVENT
DTSTART;VALUE=DATE:20180610
DTEND;VALUE=DATE:20180812
DTSTAMP:20260421T031248
CREATED:20180608T081735Z
LAST-MODIFIED:20180811T015353Z
UID:60757-1528588800-1534118399@www.lajajakids.com
SUMMARY:Concerts in the Park (Monterey Park)
DESCRIPTION:Hosted by the Recreation and Community Services Department  Join us for the sweet sounds of summer in the City of Monterey Park at the Barnes Park Amphitheater.  Free concerts will begin at 6 p.m.  Sunday\, June 10: Bulletproof Soul (R&B\, funk and top 40).   Wednesday\, July 4: Free Independence Day live entertainment and fireworks show (live entertainment begins at 5 p.m.).  ​Sunday\, August 12: Cold Duck (grooving rhythms). ​ ​The amphitheater is located in Barnes Park at the corner of Ramona and Harding Avenues.
URL:https://www.lajajakids.com/en/event/%e5%85%ac%e5%9c%92%e9%9f%b3%e6%a8%82%e6%9c%83/
LOCATION:350 W. McPherrin Ave\, Monterey Park\, CA\, United States
GEO:34.0590809;-118.1270706
X-APPLE-STRUCTURED-LOCATION;VALUE=URI;X-ADDRESS=350 W. McPherrin Ave Monterey Park CA United States;X-APPLE-RADIUS=500;X-TITLE=350 W. McPherrin Ave:geo:-118.1270706,34.0590809
CATEGORIES:Memorial Weekend
ATTACH;FMTTYPE=image/jpeg:https://www.lajajakids.com/wp-content/uploads/2018/06/monterey_park_summer_concerts_barnes_park.jpg
END:VEVENT
END:VCALENDAR