BEGIN:VCALENDAR
VERSION:2.0
PRODID:-//La JaJa - ECPv4.3.4.1//NONSGML v1.0//EN
CALSCALE:GREGORIAN
METHOD:PUBLISH
X-WR-CALNAME:La JaJa
X-ORIGINAL-URL:https://www.lajajakids.com
X-WR-CALDESC:Events for La JaJa
BEGIN:VEVENT
DTSTART;VALUE=DATE:20180219
DTEND;VALUE=DATE:20180219
DTSTAMP:20260424T060349
CREATED:20190117T203314Z
LAST-MODIFIED:20190117T203314Z
UID:56736-1518998400-1519084799@www.lajajakids.com
SUMMARY:免費參觀LACMA
DESCRIPTION:\n\n2019 年 1 月 21 日 (一)  11:00am to 5:00pm\n\n適合年齡  : 5 and up\n票價 : 免費\n\nLACMA 在 1 月 21日 美國馬丁路德金節免費參觀，2:30及 2:45 pm.現場會有樂隊演奏。\n
URL:https://www.lajajakids.com/event/%e5%85%8d%e8%b2%bb%e5%8f%83%e8%a7%80lacma/
LOCATION:5905 Wilshire Blvd\, Los Angeles\, CA\, 90036\, United States
GEO:34.0637913;-118.3588851
X-APPLE-STRUCTURED-LOCATION;VALUE=URI;X-ADDRESS=5905 Wilshire Blvd Los Angeles CA 90036 United States;X-APPLE-RADIUS=500;X-TITLE=5905 Wilshire Blvd:geo:-118.3588851,34.0637913
CATEGORIES:Sky,精選推介
ATTACH;FMTTYPE=image/jpeg:https://www.lajajakids.com/wp-content/uploads/2018/02/U3VK4NMKTZBMVK74XH2QCFWCHE.jpg
END:VEVENT
END:VCALENDAR