BEGIN:VCALENDAR
VERSION:2.0
PRODID:-//La JaJa - ECPv4.3.4.1//NONSGML v1.0//EN
CALSCALE:GREGORIAN
METHOD:PUBLISH
X-WR-CALNAME:La JaJa
X-ORIGINAL-URL:https://www.lajajakids.com/en
X-WR-CALDESC:Events for La JaJa
BEGIN:VEVENT
DTSTART;TZID=America/Los_Angeles:20180408T100000
DTEND;TZID=America/Los_Angeles:20180408T180000
DTSTAMP:20260425T031434
CREATED:20180406T062555Z
LAST-MODIFIED:20180406T062555Z
UID:58450-1523181600-1523210400@www.lajajakids.com
SUMMARY:Free Day at USC Pacific Asia Museum
DESCRIPTION:\n\n \n\nPasadena's museum honoring all things Asian opens its doors for free on the second Sunday of every month. April's free dayÂ explores the art of printmaking.\n\nMarch 11: Guests are invited to explore the garden and architecture of the museum! Visitors design and create a model of a garden with artist Gustavo Garcia\, sketch al fresco from the Chinese style courtyard and building\, go on a tour of nature in the collection\, and listen toÂ storytimeÂ in the galleries.\n\nAt 1pm\, the museum hosts the launchÂ of the new children's bookÂ Natsumi!\, with a special reading by author Susan Lendroth and illustrator Priscilla Burris. A book signing will follow.
URL:https://www.lajajakids.com/en/event/%e5%85%8d%e8%b2%bb%e5%8f%83%e8%a7%80%e6%97%a5-usc-pacific-asia-museum/
LOCATION:46 North Los Robles Ave\, Pasadena \, CA\, United States
GEO:34.1467484;-118.1410261
X-APPLE-STRUCTURED-LOCATION;VALUE=URI;X-ADDRESS=46 North Los Robles Ave Pasadena  CA United States;X-APPLE-RADIUS=500;X-TITLE=46 North Los Robles Ave:geo:-118.1410261,34.1467484
CATEGORIES:Yellow
END:VEVENT
END:VCALENDAR