BEGIN:VCALENDAR
VERSION:2.0
PRODID:-//La JaJa - ECPv4.3.4.1//NONSGML v1.0//EN
CALSCALE:GREGORIAN
METHOD:PUBLISH
X-WR-CALNAME:La JaJa
X-ORIGINAL-URL:https://www.lajajakids.com/en
X-WR-CALDESC:Events for La JaJa
BEGIN:VEVENT
DTSTART;VALUE=DATE:20180325
DTEND;VALUE=DATE:20180325
DTSTAMP:20260426T034930
CREATED:20180323T162438Z
LAST-MODIFIED:20180323T162438Z
UID:58026-1521936000-1522022399@www.lajajakids.com
SUMMARY:Paleyfest 2018: Riverdale
DESCRIPTION:Join us for a once-in-a-lifetime PaleyFest Icon conversation with living legend Barbra Streisand! Followed by eleven blockbuster events with the stars and creatives of your favorite TV series.\nAn Evening with Barbra Streisand • The Orville • Will & Grace • The Handmaid’s Tale • Silicon Valley • Supernatural • The Big Bang Theory & Young Sheldon • The Good Doctor • Mom • Queen Sugar • Riverdale • Stranger Things
URL:https://www.lajajakids.com/en/event/%e4%bd%a9%e5%88%a9%e9%9b%bb%e8%a6%96%e7%af%80-%e3%80%8a%e6%b2%b3%e8%b0%b7%e9%8e%ae%e3%80%8b/
LOCATION:6801 Hollywood Blvd\, Hollywood \, CA\, United States
CATEGORIES:Red,JaJa’s Picks
ATTACH;FMTTYPE=image/jpeg:https://www.lajajakids.com/wp-content/uploads/2018/03/Riverdale-PaleyFest-LA-1-1024x691.jpg
END:VEVENT
END:VCALENDAR