BEGIN:VCALENDAR
VERSION:2.0
PRODID:-//La JaJa - ECPv4.3.4.1//NONSGML v1.0//EN
CALSCALE:GREGORIAN
METHOD:PUBLISH
X-WR-CALNAME:La JaJa
X-ORIGINAL-URL:https://www.lajajakids.com
X-WR-CALDESC:Events for La JaJa
BEGIN:VEVENT
DTSTART;VALUE=DATE:20180929
DTEND;VALUE=DATE:20180929
DTSTAMP:20260423T045410
CREATED:20180929T032153Z
LAST-MODIFIED:20180929T032153Z
UID:63656-1538179200-1538265599@www.lajajakids.com
SUMMARY:住棚節
DESCRIPTION:\n\n\n\n\n住棚節（希伯來語：סוכות或סֻכּוֹת，音譯為Succoth或Sukkos，意為棚）是聖經中規定的猶太教三大節期之一，慶祝時間是從每年秋季的希伯來曆提斯利月15日\n\nBring in the fall harvest season and celebrate the Jewish holiday of Sukkot at this daylong festival. With family and friends\, explore the Skirball campus transformed into a socially conscious market\, offering an assortment of locally sourced fare\, craft beer\, art activities\, live music and dancing\, and more. Program partners include Garden School Foundation\, GrowGood\, Huerta del Valle\, and SÜPRMARKT LA.\n\nDance and sing along to performances by bluegrass band Big Bad Rooster\, contemporary Indian ensemble Blue13 Dance Company\, Afro-Cuban folkloric dancer Kati Hernández & KimBámbula Cuban Ensemble featuring legendary maestro Lázaro Galarraga\, and David Dassa leading Israeli folk dancing. Then participate in a community art activity.\nPlan Your Day\nDownload a map and schedule of what’s happening at the festival.\n\n\n\n\n\n\n\n
URL:https://www.lajajakids.com/event/%e4%bd%8f%e6%a3%9a%e7%af%80/
LOCATION:2701 North Sepulveda Boulevard\, Los Angeles\, 90049\, United States
GEO:34.124832;-118.4791916
X-APPLE-STRUCTURED-LOCATION;VALUE=URI;X-ADDRESS=2701 North Sepulveda Boulevard Los Angeles 90049 United States;X-APPLE-RADIUS=500;X-TITLE=2701 North Sepulveda Boulevard:geo:-118.4791916,34.124832
CATEGORIES:Red,精選推介
ATTACH;FMTTYPE=image/jpeg:https://www.lajajakids.com/wp-content/uploads/2018/09/66f6d2796ed138fe37c5_large.jpg
END:VEVENT
END:VCALENDAR