BEGIN:VCALENDAR
VERSION:2.0
PRODID:-//La JaJa - ECPv4.3.4.1//NONSGML v1.0//EN
CALSCALE:GREGORIAN
METHOD:PUBLISH
X-WR-CALNAME:La JaJa
X-ORIGINAL-URL:https://www.lajajakids.com/en
X-WR-CALDESC:Events for La JaJa
BEGIN:VEVENT
DTSTART;VALUE=DATE:20190413
DTEND;VALUE=DATE:20190413
DTSTAMP:20260422T130251
CREATED:20190413T033723Z
LAST-MODIFIED:20190413T033723Z
UID:67349-1555113600-1555199999@www.lajajakids.com
SUMMARY:Vintage Fashion Show
DESCRIPTION:Annual Vintage Fashion Show & Tea Saturday April 13\, 2019 11:00-3:00\nSaturday\, April 13\, 2019\, 11:00 AM - 3:00 Pm\n\n\nEnjoy a sit down tea with tasty sandwiches\, delicious desserts and Tea all while experiencing the fashion of “Romance Through the Ages” at our annual Vintage Fashion Show & Tea\n\nTickets available March 1\, 2019 on Brown Paper Tickets\n\nWear your best outdoor ensembles and enjoy a themed-fashion\nshow at Heritage Square Museums annual Vintage Fashion Show\nand Tea on Saturday\, April 13\, 2019.\nNarrators will weave fascinating historic stories as models don\nauthentic period costumes and vintage gowns on the museums\npicturesque outdoor runway surrounded by beautifully restored\nVictorian homes. The show often features more than 300 years of\nfashion history centering on Romance Through the Ages theme.\nVintage Fashion Show and Tea often sells out and reservations\nare required.\nNote: No regular tours of the museums historic structures will be given on the day of the fashion show.\n\nTickets available March 1\, 2019 on Brown Paper Tickets:\n\nhttps://2019victorianromance.brownpapertickets.com\n\n\n
URL:https://www.lajajakids.com/en/event/vintage-%e6%99%82%e8%a3%9d%e7%a7%80/
LOCATION:3800 Homer Street\, Los Angeles\, CA\, 90031\, United States
GEO:34.0882339;-118.2079559
X-APPLE-STRUCTURED-LOCATION;VALUE=URI;X-ADDRESS=3800 Homer Street Los Angeles CA 90031 United States;X-APPLE-RADIUS=500;X-TITLE=3800 Homer Street:geo:-118.2079559,34.0882339
CATEGORIES:Red,JaJa’s Picks
ATTACH;FMTTYPE=image/jpeg:https://www.lajajakids.com/wp-content/uploads/2019/04/Holly-Group-Portrait.jpg
END:VEVENT
END:VCALENDAR