BEGIN:VCALENDAR
VERSION:2.0
PRODID:-//La JaJa - ECPv4.3.4.1//NONSGML v1.0//EN
CALSCALE:GREGORIAN
METHOD:PUBLISH
X-WR-CALNAME:La JaJa
X-ORIGINAL-URL:https://www.lajajakids.com/en
X-WR-CALDESC:Events for La JaJa
BEGIN:VEVENT
DTSTART;VALUE=DATE:20180916
DTEND;VALUE=DATE:20180916
DTSTAMP:20260423T135546
CREATED:20180915T153321Z
LAST-MODIFIED:20180915T153321Z
UID:63369-1537056000-1537142399@www.lajajakids.com
SUMMARY:Pride of the Valley Open Streets
DESCRIPTION:\n\n\n\nOpen Streets initiatives temporarily close streets to automobile traffic and open them to cyclists\, pedestrians and other modes of non-motorized transportation.\n\n\n\n\n\n\n\n\nOpen Streets have quickly become one of the most innovative advancements in the livable cities movement. They are an increasingly common strategy in regions that are seeking innovative ways to encourage mode shift to sustainable modes of transportation\, reduce traffic congestion\, achieve economic and public health improvement.\n\n\n\n\n\n\n\n\nThe Pride of the Valley Open Streets event is both a local celebration and a regional attraction. Residents of Baldwin Park & Irwindale can easily walk\, bike\, or skate to the route. Those coming from further away can take the Metrolink to the Baldwin Park or Irwindale Stations\, or the Metro bus for transit. Use the Metro Trip Planner on www.metro.net to help find your way.\n\n\n\n
URL:https://www.lajajakids.com/en/event/valley%e8%a1%97%e9%96%8b%e6%94%be%e6%97%a5/
LOCATION:15501 Arrow Hwy.\, Irwindale\, CA\, United States
GEO:34.1140671;-117.9541894
X-APPLE-STRUCTURED-LOCATION;VALUE=URI;X-ADDRESS=15501 Arrow Hwy. Irwindale CA United States;X-APPLE-RADIUS=500;X-TITLE=15501 Arrow Hwy.:geo:-117.9541894,34.1140671
CATEGORIES:Red,JaJa’s Picks
ATTACH;FMTTYPE=image/jpeg:https://www.lajajakids.com/wp-content/uploads/2018/09/valley3.jpg
END:VEVENT
END:VCALENDAR