BEGIN:VCALENDAR
VERSION:2.0
PRODID:-//La JaJa - ECPv4.3.4.1//NONSGML v1.0//EN
CALSCALE:GREGORIAN
METHOD:PUBLISH
X-WR-CALNAME:La JaJa
X-ORIGINAL-URL:https://www.lajajakids.com/en
X-WR-CALDESC:Events for La JaJa
BEGIN:VEVENT
DTSTART;VALUE=DATE:20181006
DTEND;VALUE=DATE:20181007
DTSTAMP:20260419T211427
CREATED:20170929T175104Z
LAST-MODIFIED:20181005T164550Z
UID:52701-1538784000-1538956799@www.lajajakids.com
SUMMARY:Tina's Pumpkin Patch Opening Day
DESCRIPTION:Hours:\nSunday - Thursday:  10am- 8pm\nFri - Sat: 10am - 9pm\n\nNote: October 31 (Halloween) closing time is in the afternoon.\n\n​Birthday party option available\, (advance reservations are required).\n\n\,  family fun at Tina’s Pumpkin Patch includes bouncers\, a slide\, straw maze\, train\, petting zoo and pony rides*.\n\nBirthday party option available\, (advance reservations are required).\n\nAmple free parking available.\n\nNo admission fee.
URL:https://www.lajajakids.com/en/event/tina%e5%8d%97%e7%93%9c%e5%9c%92%e9%96%8b%e5%b9%95%e6%97%a5/
LOCATION:4827 Sepulveda Blvd\, Sherman Oaks\, CA\, 91403\, United States
GEO:34.1584967;-118.4661748
X-APPLE-STRUCTURED-LOCATION;VALUE=URI;X-ADDRESS=4827 Sepulveda Blvd Sherman Oaks CA 91403 United States;X-APPLE-RADIUS=500;X-TITLE=4827 Sepulveda Blvd:geo:-118.4661748,34.1584967
CATEGORIES:Red,JaJa’s Picks
ATTACH;FMTTYPE=image/jpeg:https://www.lajajakids.com/wp-content/uploads/2017/09/Pumpkin-Patch-768x512.jpg
END:VEVENT
END:VCALENDAR