BEGIN:VCALENDAR
VERSION:2.0
PRODID:-//La JaJa - ECPv4.3.4.1//NONSGML v1.0//EN
CALSCALE:GREGORIAN
METHOD:PUBLISH
X-WR-CALNAME:La JaJa
X-ORIGINAL-URL:https://www.lajajakids.com/en
X-WR-CALDESC:Events for La JaJa
BEGIN:VEVENT
DTSTART;TZID=America/Los_Angeles:20170818T080000
DTEND;TZID=America/Los_Angeles:20170818T170000
DTSTAMP:20260419T223629
CREATED:20170818T175438Z
LAST-MODIFIED:20170818T175438Z
UID:50491-1503043200-1503075600@www.lajajakids.com
SUMMARY:Tiki Beach Festival
DESCRIPTION:\n\nDates\nAugust 19-20\, 2017\nHours\nSaturday August 19th 9:00 AM To 9:00 PM\nSunday August 20th 10:00 AM To  6:00 PM\nAdmission is FREE - Food\, Beverage and Merchandise for sale\n\n\n\n\nEvent Highlights:\n\n\n\tIsland Market Place & Cultural Center\n\tTraditional Arts & Crafts Including Tiki Carving\n\tTaste of Aloha Food Court - Various Foods of the Islands\n\tRenowned Masters of Island Music & Dance\n\t" Night Of Fire " Torch Lighting\, Fire Knife Dance\, Fire Walk   and Island Music\n\tKids' Zone and Play Areas\n\tCanoe Rides & Other Activities\n\tSunday Morning Hula Praise & Worship Service\n\n\n\n\n\nEntertainment Lineup Saturday August 19th\n\n\n9:30 AM - Opening prayer\n\n10:00 AM -  Uncle Lincoln's "Ukulele Crew"\n\n11:00 AM - Kolohe Ukulele Club\n\n11:40 AM "Island Fitness" by Ilima ( Tahitian Cardio )\n\n12:00 PM - Aloha Hula\n\n1:00 PM - Lokelani's "Rhythm Of The Islands"\n\n2:00 PM - Hitia O Te Ra\n\n3:00 PM - Le Polynesia\n\n3:40 PM - "Island Fitness" by Illima ( Tahitian Cardio )\n\n4:00 PM - Glory Of Paradise\n\n5:00 PM - Mailelani Ohana Hula\n\n6:00 PM - O'ahu Hawaiian Band\n\n7:00 PM - Mahana\n\n8:00 PM - "Tama's Night Of Fire Spectacular" "Featuring Glory Of Paradise Dancers   and Chief Kaimana"\n\n\nEntertainment Lineup Sunday August 20th\n\n\n10:00 AM  - Aloha morning Praise And Worship Music\n\n10:20 AM - Sermon by Pastor Galen\n\n11:00 AM - Ohana O Ke Akua Hula Sister's Praise\n\n11:40 AM "Vahine's Of Atuumai" Moana Nui\n\n12:00 PM - Hula Halau Kawika O' Leilani\n\n12:40 PM - Island Fitness\n\n1:00 PM - Aroha Tahi\n\n2:00 PM - Aolani\n\n3:00 PM - Aina Creations\n\n3:40 PM - "island Fitness" by Illima ( Tahitian Cardio )\n\n4:00 PM - Tina's Ports Of Paradise\n\n5:00 PM - Aja "Kauhi'imakaokalni" Gample Hawaiian Slack Key Guitar\n\n6:00 PM - "Hawaii Aloha" Mahalo Nui Loa\, Thank You!!! to all whom have shared their hearts passion and Love for the life\, Culture\, Song and Dance of the South Pacific Islands by\, volunteering your time and energy to make this event what it is " Blessed " Until we meet again on the Shore's Of The Pacific A hui Ho ... Ho'oponopono Alooooooooha! "\n\n"Chief Of Tiki Beach" Greg Tama Potjes Creator/ Entertainment Director & Co Producer ------------------------- *Special Thanks to our MC Host Kamaka Brown and Pualilia Hernandez of "V93fm.com Sandwich Island Network" Radio for gracing t\n\n
URL:https://www.lajajakids.com/en/event/tiki-beach-festival/
ATTACH;FMTTYPE=image/jpeg:https://www.lajajakids.com/wp-content/uploads/2017/08/tiki_fest_2017.jpg
END:VEVENT
END:VCALENDAR