BEGIN:VCALENDAR
VERSION:2.0
PRODID:-//La JaJa - ECPv4.3.4.1//NONSGML v1.0//EN
CALSCALE:GREGORIAN
METHOD:PUBLISH
X-WR-CALNAME:La JaJa
X-ORIGINAL-URL:https://www.lajajakids.com/en
X-WR-CALDESC:Events for La JaJa
BEGIN:VEVENT
DTSTART;VALUE=DATE:20180216
DTEND;VALUE=DATE:20180216
DTSTAMP:20260423T162409
CREATED:20180122T223306Z
LAST-MODIFIED:20180122T223306Z
UID:55971-1518739200-1518825599@www.lajajakids.com
SUMMARY:Story Time: The Runaway Rice Cake
DESCRIPTION:11:30 AM - 12:30 PM\n\n\nCelebrate the Chinese New Year at the Fowler! Join us for an interactive storytelling experience as we look\, listen\, and learn in our exhibition Intersections: World Arts\, Local Lives. Families and children of all ages are invited to follow the Chang family as they learn the importance of sharing in The Runaway Rice Cake\, by Ying Chang Compestine (2001). After the reading\, a Museum Educator will lead families on a brief exploration of artworks related to the story.\n\nStory Time is a short format\, informal storytelling program facilitated by Fowler educators from 11:30am–12:30pm on the first and third Friday of each month.\n\n\n\n\nThis event is free\, no reservation required. All materials will be provided. Meet in the Fowler’s Lobby.\n\nParking available in UCLA Lot 4\, 398 Westwood Plaza\, directly off Sunset Blvd | $12/day\n\nAbout the Exhibition \nIntersections: World Arts/Local Lives incorporates some of the finest objects from the Fowler’s extensive holdings of art from Africa\, Asia\, the Pacific\, and the Americas are featured in this long-term exhibition that celebrates the richness of world arts and considers the roles they play in peoples’ lives.\n\n\n
URL:https://www.lajajakids.com/en/event/story-time-the-runaway-rice-cake/
LOCATION:UCLA North Campus Sunset Blvd & Westwood Plaza\, Los Angeles\, CA\, 90095\, United States
GEO:34.0743889;-118.4419571
X-APPLE-STRUCTURED-LOCATION;VALUE=URI;X-ADDRESS=UCLA North Campus Sunset Blvd & Westwood Plaza Los Angeles CA 90095 United States;X-APPLE-RADIUS=500;X-TITLE=UCLA North Campus Sunset Blvd & Westwood Plaza:geo:-118.4419571,34.0743889
CATEGORIES:Red,JaJa’s Picks
ATTACH;FMTTYPE=image/jpeg:https://www.lajajakids.com/wp-content/uploads/2018/01/rice-cake.jpg
END:VEVENT
END:VCALENDAR