BEGIN:VCALENDAR
VERSION:2.0
PRODID:-//La JaJa - ECPv4.3.4.1//NONSGML v1.0//EN
CALSCALE:GREGORIAN
METHOD:PUBLISH
X-WR-CALNAME:La JaJa
X-ORIGINAL-URL:https://www.lajajakids.com/en
X-WR-CALDESC:Events for La JaJa
BEGIN:VEVENT
DTSTART;VALUE=DATE:20171111
DTEND;VALUE=DATE:20171112
DTSTAMP:20260423T194609
CREATED:20171110T043212Z
LAST-MODIFIED:20171110T043212Z
UID:54011-1510358400-1510531199@www.lajajakids.com
SUMMARY:*Starbucks Holiday BOGOs
DESCRIPTION:event from 2pm to 5pm
URL:https://www.lajajakids.com/en/event/starbucks%e5%81%87%e6%97%a5%e7%89%b9%e9%a3%b2/
LOCATION:United States
GEO:37.09024;-95.712891
CATEGORIES:Red,JaJa’s Picks
ATTACH;FMTTYPE=image/jpeg:https://www.lajajakids.com/wp-content/uploads/2017/11/54f927ef7b156_-_share-event.jpeg
END:VEVENT
END:VCALENDAR